{"text_format":"1","workbook":"xlsx","n_sheets":6,"sheets":["START","入力シート","印刷用","IDカード","選択リスト","手書き用"],"not_rendered":{"charts":0,"images":0,"macros":1,"external_links":0,"defined_names":3,"comments":0,"pivot_tables":0},"unopened":[],"bounds":{"document_bytes":16777216,"sheet_cells":100000,"rows_first":2000,"rows_last":500,"rows_between":2000,"halvings":0,"cell_chars":16384,"cell_head_chars":4096},"cells_cut":0,"cells_raw":0,"read":"whole","date_system":"1900"}

{"sheet":"START","index":0,"n_rows":7,"n_cols":4,"rows_kept":7,"cut":false,"hidden":false,"merged":[]}
[]
[]
[]
[]
[1,"入力年月日(2024/1/1)"]
[2,{"$f":"入力シート!G3","v":"令和"},null,"年"]
[3,"大会名"]

{"sheet":"入力シート","index":1,"n_rows":26,"n_cols":15,"rows_kept":26,"cut":false,"hidden":false,"merged":[[21,2,21,3],[22,2,22,3],[0,8,0,11],[13,1,14,1],[12,2,12,4],[13,2,13,4],[14,2,14,4],[0,1,0,7],[7,1,11,1],[16,10,16,11],[15,8,15,11],[6,4,6,5],[15,7,16,7],[15,5,16,5],[15,4,16,4],[15,6,16,6],[7,2,7,4],[2,8,2,9],[2,2,2,4],[4,2,4,3],[5,2,5,3],[6,2,6,3],[17,2,17,3],[3,2,3,4],[3,5,3,9],[15,1,25,1],[4,6,5,7],[9,2,9,3],[15,2,16,3],[8,2,8,3],[10,2,10,3],[11,2,11,3],[23,2,23,3],[24,2,24,3],[25,2,25,3],[18,2,18,3],[19,2,19,3],[20,2,20,3]]}
[null,"参加申込書　入力シート　 (団体)",null,null,null,null,null,null,"入力セル（黄色いセル）　\n※列の増減など入力セル以外は変更しないでください"]
[]
[null,1,"入力年月日(2024/1/1)",null,null,{"$f":"IF(START!C5=\"\",\"\",START!C5)","v":""},"令和",{"$f":"IF(START!C6=\"\",\"\",START!C6)","v":""},"年"]
[null,2,"大会名",null,null,{"$f":"START!C7","v":0},null,null,null,null,null,null,null,null,{"$f":"_xlfn.IFS(F4=\"【選択して下さい】\",\"1\",F4=\"関東予選地区大会\",\"2\",F4=\"関東予選県大会\",\"3\",F4=\"総体\",\"4\",F4=\"新人地区予選\",\"5\",F4=\"新人県大会\",\"6\")","v":{"$error":"#N/A"}}]
[null,3,"種別",null,null,"（　男子　・　女子　）","↑元号が違う場合は入力してください"]
[null,4,"地区",null,null,"地区"]
[null,5,"学校名",null,null,null,"高等学校"]
[null,6,"ベンチ入り指導者　氏名",null,null,"指導者区分","↑変更できます"]
[null,null,1,null,null,"【選択して下さい】"]
[null,null,2,null,null,"【選択して下さい】"]
[null,null,3,null,null,"【選択して下さい】"]
[null,null,4,null,null,"【選択して下さい】"]
[null,7,"学校長氏名"]
[null,8,"引率責任者氏名"]
[null,null,"引率者責任者職（教諭など）"]
[null,9,"選手",null,"氏　　名","ふりがな","生年月日","学年","出身中学校"]
[null,null,null,null,null,null,null,null,"都道府県","市町村立","中学校名"]
[null,null,"例",null,"千葉　太郎","ちば　たろう","2010-03-01",2,"千葉県","千葉市立","千葉","中学校"]
[null,null,1,null,null,null,null,null,null,null,null,"中学校"]
[null,null,2,null,null,null,null,null,null,null,null,"中学校"]
[null,null,3,null,null,null,null,null,null,null,null,"中学校"]
[null,null,4,null,null,null,null,null,null,null,null,"中学校"]
[null,null,5,null,null,null,null,null,null,null,null,"中学校"]
[null,null,6,null,null,null,null,null,null,null,null,"中学校"]
[null,null,7,null,null,null,null,null,null,null,null,"中学校"]
[null,null,8,null,null,null,null,null,null,null,null,"中学校"]

{"sheet":"印刷用","index":2,"n_rows":49,"n_cols":15,"rows_kept":49,"cut":false,"hidden":false,"merged":[[45,4,45,5],[46,1,46,5],[46,6,46,7],[48,4,48,5],[48,6,48,7],[30,1,32,2],[30,3,30,5],[30,6,32,6],[30,7,31,8],[31,3,32,5],[32,7,32,8],[40,1,40,8],[41,1,41,8],[43,1,43,8],[33,1,35,2],[33,3,33,5],[33,6,35,6],[33,7,34,8],[34,3,35,5],[35,7,35,8],[37,1,37,8],[38,1,38,8],[39,1,39,8],[29,7,29,8],[24,1,26,2],[24,3,24,5],[24,6,26,6],[24,7,25,8],[25,3,26,5],[26,7,26,8],[27,1,29,2],[27,3,27,5],[27,6,29,6],[27,7,28,8],[28,3,29,5],[21,1,23,2],[21,3,21,5],[21,6,23,6],[21,7,22,8],[22,3,23,5],[23,7,23,8],[18,1,20,2],[18,3,18,5],[18,6,20,6],[18,7,19,8],[19,3,20,5],[20,7,20,8],[15,1,17,2],[15,3,15,5],[15,6,17,6],[15,7,16,8],[16,3,17,5],[17,7,17,8],[12,1,14,2],[12,3,12,5],[12,6,14,6],[12,7,13,8],[13,3,14,5],[14,7,14,8],[9,1,9,2],[9,3,9,5],[9,6,9,8],[10,1,11,2],[10,3,10,5],[10,6,11,6],[10,7,10,8],[11,3,11,5],[11,7,11,8],[7,1,7,2],[7,3,7,5],[7,6,7,8],[8,1,8,2],[8,3,8,5],[8,6,8,8],[5,1,5,5],[5,6,5,8],[6,1,6,2],[6,3,6,5],[6,6,6,8],[0,1,0,3],[2,1,2,6],[3,1,3,2],[3,3,3,5],[4,1,4,2],[4,3,4,7],[0,5,0,9],[1,1,1,9]]}
[null,{"$f":"入力シート!G3","v":"令和"},null,null,{"$f":"入力シート!H3","v":""},{"$f":"_xlfn.IFS(M4=\"1\",\"\",M4=\"2\",O2,M4=\"3\",O4,M4=\"4\",O6,M4=\"5\",O8,M4=\"6\",O10)","v":{"$error":"#N/A"}}]
[null,{"$f":"_xlfn.IFS(M4=\"1\",\"\",M4=\"2\",O3,M4=\"3\",O5,M4=\"4\",O7,M4=\"5\",O9,M4=\"6\",O11)","v":{"$error":"#N/A"}},null,null,null,null,null,null,null,null,null,null,null,null,"年度関東高等学校ソフトテニス大会"]
[null,"千葉県高等学校体育連盟会長　様",null,null,null,null,null,null,null,null,null,null,null,null,"千葉県予選会地区大会参加申し込み書"]
[null,"種 別",null,{"$f":"IF(入力シート!E5=\"\",\"\",入力シート!E5)","v":""},null,null,"団 体","地区",{"$f":"IF(入力シート!E6=\"\",\"\",入力シート!E6)","v":""},null,null,null,{"$f":"入力シート!O4","v":{"$error":"#N/A"}},null,"年度関東高等学校ソフトテニス大会"]
[null,"学校名",null,{"$f":"IF(入力シート!E7=\"\",\"【入力して下さい】\",入力シート!E7)","v":"【入力して下さい】"},null,null,null,null,{"$f":"入力シート!G7","v":"高等学校"},null,null,null,null,null,"千葉県予選会参加申し込み書"]
[null,"監　　　　　　督 ",null,null,null,null,"氏　　　名",null,null,null,null,null,null,null,"年度千葉県高等学校総合体育大会"]
[null,1,null,{"$f":"_xlfn.IFS(入力シート!F9=\"\",\"\",入力シート!F9=\"【選択して下さい】\",\"\",入力シート!F9=\"教職員\",\"教職員\",入力シート!F9=\"外部指導者\",\"外部指導者\",入力シート!F9=\"部活動指導員\",\"部活動指導員\")","v":""},null,null,{"$f":"IF(入力シート!E9=\"\",\"\",入力シート!E9)","v":""},null,null,null,null,null,null,null,"ソフトテニス大会参加申し込み書"]
[null,2,null,{"$f":"_xlfn.IFS(入力シート!F10=\"\",\"\",入力シート!F10=\"【選択して下さい】\",\"\",入力シート!F10=\"教職員\",\"教職員\",入力シート!F10=\"外部指導者\",\"外部指導者\",入力シート!F10=\"部活動指導員\",\"部活動指導員\")","v":""},null,null,{"$f":"IF(入力シート!E10=\"\",\"\",入力シート!E10)","v":""},null,null,null,null,null,null,null,"年度千葉県高等学校新人体育大会"]
[null,3,null,{"$f":"_xlfn.IFS(入力シート!F11=\"\",\"\",入力シート!F11=\"【選択して下さい】\",\"\",入力シート!F11=\"教職員\",\"教職員\",入力シート!F11=\"外部指導者\",\"外部指導者\",入力シート!F11=\"部活動指導員\",\"部活動指導員\")","v":""},null,null,{"$f":"IF(入力シート!E11=\"\",\"\",入力シート!E11)","v":""},null,null,null,null,null,null,null,"ソフトテニス地区大会参加申し込み書"]
[null,4,null,{"$f":"_xlfn.IFS(入力シート!F12=\"\",\"\",入力シート!F12=\"【選択して下さい】\",\"\",入力シート!F12=\"教職員\",\"教職員\",入力シート!F12=\"外部指導者\",\"外部指導者\",入力シート!F12=\"部活動指導員\",\"部活動指導員\")","v":""},null,null,{"$f":"IF(入力シート!E12=\"\",\"\",入力シート!E12)","v":""},null,null,null,null,null,null,null,"年度千葉県高等学校新人体育大会"]
[null,null,null,"ふりがな",null,null,"学 年","㊤出身中学校",null,null,null,null,null,null,"ソフトテニス大会参加申し込み書"]
[null,null,null,"氏　　名",null,null,null,"㊦生年月日"]
[null,"選手１",null,{"$f":"IF(入力シート!$F19=\"\",\"\",入力シート!$F19)","v":""},null,null,{"$f":"IF(入力シート!$H19=\"\",\"\",入力シート!$H19)","v":""},{"$f":"IF(選択リスト!$L4=\"\",\"\",選択リスト!$L4)","v":""}]
[null,null,null,{"$f":"IF(入力シート!$E19=\"\",\"\",入力シート!$E19)","v":""}]
[null,null,null,null,null,null,null,{"$f":"IF(入力シート!G19=\"\",\"\",入力シート!G19)","v":""}]
[null,"選手２",null,{"$f":"IF(入力シート!$F20=\"\",\"\",入力シート!$F20)","v":""},null,null,{"$f":"IF(入力シート!$H20=\"\",\"\",入力シート!$H20)","v":""},{"$f":"IF(選択リスト!$L5=\"\",\"\",選択リスト!$L5)","v":""}]
[null,null,null,{"$f":"IF(入力シート!$E20=\"\",\"\",入力シート!$E20)","v":""}]
[null,null,null,null,null,null,null,{"$f":"IF(入力シート!G20=\"\",\"\",入力シート!G20)","v":""}]
[null,"選手３",null,{"$f":"IF(入力シート!$F21=\"\",\"\",入力シート!$F21)","v":""},null,null,{"$f":"IF(入力シート!$H21=\"\",\"\",入力シート!$H21)","v":""},{"$f":"IF(選択リスト!$L6=\"\",\"\",選択リスト!$L6)","v":""}]
[null,null,null,{"$f":"IF(入力シート!$E21=\"\",\"\",入力シート!$E21)","v":""}]
[null,null,null,null,null,null,null,{"$f":"IF(入力シート!G21=\"\",\"\",入力シート!G21)","v":""}]
[null,"選手４",null,{"$f":"IF(入力シート!$F22=\"\",\"\",入力シート!$F22)","v":""},null,null,{"$f":"IF(入力シート!$H22=\"\",\"\",入力シート!$H22)","v":""},{"$f":"IF(選択リスト!$L7=\"\",\"\",選択リスト!$L7)","v":""}]
[null,null,null,{"$f":"IF(入力シート!$E22=\"\",\"\",入力シート!$E22)","v":""}]
[null,null,null,null,null,null,null,{"$f":"IF(入力シート!G22=\"\",\"\",入力シート!G22)","v":""}]
[null,"選手５",null,{"$f":"IF(入力シート!$F23=\"\",\"\",入力シート!$F23)","v":""},null,null,{"$f":"IF(入力シート!$H23=\"\",\"\",入力シート!$H23)","v":""},{"$f":"IF(選択リスト!$L8=\"\",\"\",選択リスト!$L8)","v":""}]
[null,null,null,{"$f":"IF(入力シート!$E23=\"\",\"\",入力シート!$E23)","v":""}]
[null,null,null,null,null,null,null,{"$f":"IF(入力シート!G23=\"\",\"\",入力シート!G23)","v":""}]
[null,"選手６",null,{"$f":"IF(入力シート!$F24=\"\",\"\",入力シート!$F24)","v":""},null,null,{"$f":"IF(入力シート!$H24=\"\",\"\",入力シート!$H24)","v":""},{"$f":"IF(選択リスト!$L9=\"\",\"\",選択リスト!$L9)","v":""}]
[null,null,null,{"$f":"IF(入力シート!$E24=\"\",\"\",入力シート!$E24)","v":""}]
[null,null,null,null,null,null,null,{"$f":"IF(入力シート!G24=\"\",\"\",入力シート!G24)","v":""}]
[null,"選手７",null,{"$f":"IF(入力シート!$F25=\"\",\"\",入力シート!$F25)","v":""},null,null,{"$f":"IF(入力シート!$H25=\"\",\"\",入力シート!$H25)","v":""},{"$f":"IF(選択リスト!$L10=\"\",\"\",選択リスト!$L10)","v":""}]
[null,null,null,{"$f":"IF(入力シート!$E25=\"\",\"\",入力シート!$E25)","v":""}]
[null,null,null,null,null,null,null,{"$f":"IF(入力シート!G25=\"\",\"\",入力シート!G25)","v":""}]
[null,"選手８",null,{"$f":"IF(入力シート!$F26=\"\",\"\",入力シート!$F26)","v":""},null,null,{"$f":"IF(入力シート!$H26=\"\",\"\",入力シート!$H26)","v":""},{"$f":"IF(選択リスト!$L11=\"\",\"\",選択リスト!$L11)","v":""}]
[null,null,null,{"$f":"IF(入力シート!$E26=\"\",\"\",入力シート!$E26)","v":""}]
[null,null,null,null,null,null,null,{"$f":"IF(入力シート!G26=\"\",\"\",入力シート!G26)","v":""}]
[]
[null,"（記入上の注意事項）"]
[null,"１．引率責任者は当該校の教員とする。"]
[null,"２．監督は校長が認める指導者とし、それが外部指導者の場合は傷害・賠償責任保険（スポーツ\n　　安全保険等）に必ず加入することを条件とする。"]
[null,"３．外部指導者とは、非常勤講師、スポーツクラブ指導者、社会体育指導者、当該校の卒業生・\n　　保護者等で校長が認めたものとする。"]
[null,"４．監督は複数校での参加は認めない。"]
[]
[null,"上記の監督は本校教職員または正式に依頼した外部指導員であり、選手は本校在学生徒であるこ\nとを認め、標記大会への参加申込をいたします。"]
[]
[null,{"$f":"入力シート!G3","v":"令和"},{"$f":"入力シート!H3","v":""},"年",{"$f":"IF(入力シート!F3=\"\",\"【入力して下さい】\",入力シート!F3)","v":"【入力して下さい】"}]
[null,{"$f":"IF(入力シート!E7=\"\",\"【入力して下さい】\",入力シート!E7)","v":"【入力して下さい】"},null,null,null,null,{"$f":"入力シート!G7&\"長\"","v":"高等学校長"},null,{"$f":"IF(入力シート!F13=\"\",\"【入力して下さい】\",選択リスト!H4)","v":"【入力して下さい】"}]
[]
[null,null,null,null,"引率責任者（職名）",null,{"$f":"IF(入力シート!F15=\"\",\"【入力して下さい】\",選択リスト!H8)","v":"【入力して下さい】"},null,{"$f":"IF(入力シート!F14=\"\",\"【入力して下さい】\",選択リスト!H6)","v":"【入力して下さい】"}]

{"sheet":"IDカード","index":3,"n_rows":25,"n_cols":15,"rows_kept":25,"cut":false,"hidden":false,"merged":[[49,5,49,7],[49,14,49,16],[38,5,38,7],[38,14,38,16],[46,3,46,7],[46,12,46,16],[48,5,48,8],[48,14,48,17],[27,5,27,7],[27,14,27,16],[35,3,35,7],[35,12,35,16],[37,5,37,8],[37,14,37,17],[20,5,22,8],[20,14,22,17],[24,14,24,18],[26,5,26,8],[26,14,26,17],[24,5,24,9],[16,5,16,8],[16,14,16,17],[18,5,19,7],[18,14,19,16],[15,5,15,9],[15,14,15,18],[6,5,7,7],[6,14,7,16],[8,5,10,8],[8,14,10,17],[12,14,12,18],[12,5,12,9],[2,3,2,7],[2,12,2,16],[4,5,4,8],[4,14,4,17],[3,5,3,9],[3,14,3,18]]}
[]
[]
[]
[null,null,null,null,null,"ベンチ入り指導者ＩＤ",null,null,null,null,null,null,null,null,{"$f":"F4","v":"ベンチ入り指導者ＩＤ"}]
[null,null,null,{"$f":"IF(入力シート!E6=\"\",\"\",入力シート!E6&\"地区\")","v":""},null,{"$f":"IF(入力シート!E7=\"\",\"\",入力シート!E7&\"高校\")","v":""},null,null,null,null,null,null,{"$f":"IF(D5=\"\",\"\",D5)","v":""},null,{"$f":"IF(F5=\"\",\"\",F5)","v":""}]
[]
[null,null,null,null,{"$f":"_xlfn.IFS(入力シート!F9=\"\",\"\",入力シート!F9=\"教職員\",1,入力シート!F9=\"外部指導者\",2,入力シート!F9=\"部活動指導員\",3)","v":{"$error":"#N/A"}},{"$f":"IF(入力シート!F9=\"\",\"\",入力シート!F9)","v":"【選択して下さい】"},null,null,null,null,null,null,null,{"$f":"_xlfn.IFS(入力シート!F10=\"\",\"\",入力シート!F10=\"教職員\",1,入力シート!F10=\"外部指導者\",2,入力シート!F10=\"部活動指導員\",3)","v":{"$error":"#N/A"}},{"$f":"IF(入力シート!F10=\"\",\"\",入力シート!F10)","v":"【選択して下さい】"}]
[]
[null,null,null,null,null,{"$f":"IF(入力シート!E9=\"\",\"\",入力シート!E9)","v":""},null,null,null,null,null,null,null,null,{"$f":"IF(入力シート!E10=\"\",\"\",入力シート!E10)","v":""}]
[]
[]
[]
[null,null,null,null,null,"ベンチ入りする際は必ず首から提げてください",null,null,null,null,null,null,null,null,"ベンチ入りする際は必ず首から提げてください"]
[]
[]
[null,null,null,null,null,{"$f":"F4","v":"ベンチ入り指導者ＩＤ"},null,null,null,null,null,null,null,null,{"$f":"F4","v":"ベンチ入り指導者ＩＤ"}]
[null,null,null,{"$f":"IF(D5=\"\",\"\",D5)","v":""},null,{"$f":"IF(F5=\"\",\"\",F5)","v":""},null,null,null,null,null,null,{"$f":"IF(D5=\"\",\"\",D5)","v":""},null,{"$f":"IF(F5=\"\",\"\",F5)","v":""}]
[]
[null,null,null,null,{"$f":"_xlfn.IFS(入力シート!F11=\"\",\"\",入力シート!F11=\"教職員\",1,入力シート!F11=\"外部指導者\",2,入力シート!F11=\"部活動指導員\",3)","v":{"$error":"#N/A"}},{"$f":"IF(入力シート!F11=\"\",\"\",入力シート!F11)","v":"【選択して下さい】"},null,null,null,null,null,null,null,{"$f":"_xlfn.IFS(入力シート!F12=\"\",\"\",入力シート!F12=\"教職員\",1,入力シート!F12=\"外部指導者\",2,入力シート!F12=\"部活動指導員\",3)","v":{"$error":"#N/A"}},{"$f":"IF(入力シート!F12=\"\",\"\",入力シート!F12)","v":"【選択して下さい】"}]
[]
[null,null,null,null,null,{"$f":"IF(入力シート!E11=\"\",\"\",入力シート!E11)","v":""},null,null,null,null,null,null,null,null,{"$f":"IF(入力シート!E12=\"\",\"\",入力シート!E12)","v":""}]
[]
[]
[]
[null,null,null,null,null,"ベンチ入りする際は必ず首から提げてください",null,null,null,null,null,null,null,null,"ベンチ入りする際は必ず首から提げてください"]

{"sheet":"選択リスト","index":4,"n_rows":50,"n_cols":12,"rows_kept":50,"cut":false,"hidden":false,"merged":[[59,8,60,8],[61,8,62,8],[49,8,50,8],[51,8,52,8],[53,8,54,8],[55,8,56,8],[57,8,58,8],[39,8,40,8],[41,8,42,8],[43,8,44,8],[45,8,46,8],[47,8,48,8],[29,8,30,8],[31,8,32,8],[33,8,34,8],[35,8,36,8],[37,8,38,8],[19,8,20,8],[21,8,22,8],[23,8,24,8],[25,8,26,8],[27,8,28,8],[0,2,0,11],[11,8,12,8],[13,8,14,8],[15,8,16,8],[17,8,18,8],[2,9,2,11]]}
[null,null,"選択リスト"]
[]
[null,"大会","種別","地区","監督職","学年","都道府県","学校長","・","中学校"]
[null,"関東予選地区大会","男　子",1,"教職員",1,"千葉県",{"$f":"(入力シート!F13&\"　　印\")","v":"　　印"},1,{"$f":"IF(入力シート!I19=\"\",\"\",IF(入力シート!I19=\"千葉県\",\"\",入力シート!I19))","v":""},{"$f":"IF(J4=\"\",\"\",CONCATENATE(J4,$I$3))","v":""},{"$f":"CONCATENATE(K4,入力シート!J19,入力シート!K19)","v":""}]
[null,"関東予選県大会","女　子",2,"外部指導者",2,"東京都","引率責任者",2,{"$f":"IF(入力シート!I20=\"\",\"\",IF(入力シート!I20=\"千葉県\",\"\",入力シート!I20))","v":""},{"$f":"IF(J5=\"\",\"\",CONCATENATE(J5,$I$3))","v":""},{"$f":"CONCATENATE(K5,入力シート!J20,入力シート!K20)","v":""}]
[null,"総体","【選択して下さい】",3,"部活動指導員",3,"茨城県",{"$f":"(入力シート!F14&\"　　印\")","v":"　　印"},3,{"$f":"IF(入力シート!I21=\"\",\"\",IF(入力シート!I21=\"千葉県\",\"\",入力シート!I21))","v":""},"",{"$f":"CONCATENATE(K6,入力シート!J21,入力シート!K21)","v":""}]
[null,"新人地区予選",null,4,"【選択して下さい】",null,"神奈川県","職名",4,{"$f":"IF(入力シート!I22=\"\",\"\",IF(入力シート!I22=\"千葉県\",\"\",入力シート!I22))","v":""},"",{"$f":"CONCATENATE(K7,入力シート!J22,入力シート!K22)","v":""}]
[null,"新人県大会",null,5,null,null,"群馬県",{"$f":"(\"( \"&入力シート!F15&\" )\")","v":"(  )"},5,{"$f":"IF(入力シート!I23=\"\",\"\",IF(入力シート!I23=\"千葉県\",\"\",入力シート!I23))","v":""},"",{"$f":"CONCATENATE(K8,入力シート!J23,入力シート!K23)","v":""}]
[null,"【選択して下さい】",null,6,null,null,"栃木県",null,6,{"$f":"IF(入力シート!I24=\"\",\"\",IF(入力シート!I24=\"千葉県\",\"\",入力シート!I24))","v":""},"",{"$f":"CONCATENATE(K9,入力シート!J24,入力シート!K24)","v":""}]
[null,null,null,7,null,null,"山梨県",null,7,{"$f":"IF(入力シート!I25=\"\",\"\",IF(入力シート!I25=\"千葉県\",\"\",入力シート!I25))","v":""},"",{"$f":"CONCATENATE(K10,入力シート!J25,入力シート!K25)","v":""}]
[null,null,null,8,null,null,"埼玉県",null,8,{"$f":"IF(入力シート!I26=\"\",\"\",IF(入力シート!I26=\"千葉県\",\"\",入力シート!I26))","v":""},"",{"$f":"CONCATENATE(K11,入力シート!J26,入力シート!K26)","v":""}]
[null,null,null,null,null,null,"北海道"]
[null,null,null,null,null,null,"青森県"]
[null,null,null,"【選択して下さい】",null,null,"岩手県"]
[null,null,null,null,null,null,"宮城県"]
[null,null,null,null,null,null,"秋田県"]
[null,null,null,null,null,null,"山形県"]
[null,null,null,null,null,null,"福島県"]
[null,null,null,null,null,null,"新潟県"]
[null,null,null,null,null,null,"富山県"]
[null,null,null,null,null,null,"石川県"]
[null,null,null,null,null,null,"福井県"]
[null,null,null,null,null,null,"長野県"]
[null,null,null,null,null,null,"岐阜県"]
[null,null,null,null,null,null,"静岡県"]
[null,null,null,null,null,null,"愛知県"]
[null,null,null,null,null,null,"三重県"]
[null,null,null,null,null,null,"滋賀県"]
[null,null,null,null,null,null,"京都府"]
[null,null,null,null,null,null,"大阪府"]
[null,null,null,null,null,null,"兵庫県"]
[null,null,null,null,null,null,"奈良県"]
[null,null,null,null,null,null,"和歌山県"]
[null,null,null,null,null,null,"鳥取県"]
[null,null,null,null,null,null,"島根県"]
[null,null,null,null,null,null,"岡山県"]
[null,null,null,null,null,null,"広島県"]
[null,null,null,null,null,null,"山口県"]
[null,null,null,null,null,null,"徳島県"]
[null,null,null,null,null,null,"香川県"]
[null,null,null,null,null,null,"愛媛県"]
[null,null,null,null,null,null,"高知県"]
[null,null,null,null,null,null,"福岡県"]
[null,null,null,null,null,null,"佐賀県"]
[null,null,null,null,null,null,"長崎県"]
[null,null,null,null,null,null,"熊本県"]
[null,null,null,null,null,null,"大分県"]
[null,null,null,null,null,null,"宮崎県"]
[null,null,null,null,null,null,"鹿児島県"]
[null,null,null,null,null,null,"沖縄県"]

{"sheet":"手書き用","index":5,"n_rows":49,"n_cols":15,"rows_kept":49,"cut":false,"hidden":false,"merged":[[0,1,0,3],[0,5,0,9],[1,1,1,9],[2,1,2,6],[3,1,3,2],[3,3,3,5],[4,1,4,2],[4,3,4,7],[5,1,5,5],[5,6,5,8],[6,1,6,2],[6,3,6,5],[6,6,6,8],[7,1,7,2],[7,3,7,5],[7,6,7,8],[8,1,8,2],[8,3,8,5],[8,6,8,8],[9,1,9,2],[9,3,9,5],[9,6,9,8],[10,1,11,2],[10,3,10,5],[10,6,11,6],[10,7,10,8],[11,3,11,5],[11,7,11,8],[12,1,14,2],[12,3,12,5],[12,6,14,6],[12,7,13,8],[13,3,14,5],[14,7,14,8],[15,1,17,2],[15,3,15,5],[15,6,17,6],[15,7,16,8],[16,3,17,5],[17,7,17,8],[18,1,20,2],[18,3,18,5],[18,6,20,6],[18,7,19,8],[19,3,20,5],[20,7,20,8],[21,1,23,2],[21,3,21,5],[21,6,23,6],[21,7,22,8],[22,3,23,5],[23,7,23,8],[24,1,26,2],[24,3,24,5],[24,6,26,6],[24,7,25,8],[25,3,26,5],[26,7,26,8],[27,1,29,2],[27,3,27,5],[27,6,29,6],[27,7,28,8],[28,3,29,5],[29,7,29,8],[30,1,32,2],[30,3,30,5],[30,6,32,6],[30,7,31,8],[31,3,32,5],[32,7,32,8],[33,1,35,2],[33,3,33,5],[33,6,35,6],[33,7,34,8],[34,3,35,5],[35,7,35,8],[46,1,46,6],[48,5,48,6],[37,1,37,8],[38,1,38,8],[39,1,39,8],[40,1,40,8],[41,1,41,8],[43,1,43,8],[45,1,45,3],[45,4,45,5]]}
[null,{"$f":"入力シート!G3","v":"令和"},null,null,{"$f":"START!C6","v":0},{"$f":"_xlfn.IFS(M4=\"1\",\"\",M4=\"2\",O2,M4=\"3\",O4,M4=\"4\",O6,M4=\"5\",O8,M4=\"6\",O10)","v":{"$error":"#N/A"}}]
[null,{"$f":"_xlfn.IFS(M4=\"1\",\"\",M4=\"2\",O3,M4=\"3\",O5,M4=\"4\",O7,M4=\"5\",O9,M4=\"6\",O11)","v":{"$error":"#N/A"}},null,null,null,null,null,null,null,null,null,null,null,null,"年度関東高等学校ソフトテニス大会"]
[null,"千葉県高等学校体育連盟会長　様",null,null,null,null,null,null,null,null,null,null,null,null,"千葉県予選会地区大会参加申し込み書"]
[null,"種 別",null,"男子　・　女子",null,null,"団 体","地区",null,null,null,null,{"$f":"入力シート!O4","v":{"$error":"#N/A"}},null,"年度関東高等学校ソフトテニス大会"]
[null,"学校名",null,null,null,null,null,null,{"$f":"入力シート!G7","v":"高等学校"},null,null,null,null,null,"千葉県予選会参加申し込み書"]
[null,"監　　　　　　督 　　（どれかに○をつける）",null,null,null,null,"氏　　　名",null,null,null,null,null,null,null,"年度千葉県高等学校総合体育大会"]
[null,1,null,"教職員・外部指導者・部活動指導員",null,null,null,null,null,null,null,null,null,null,"ソフトテニス大会参加申し込み書"]
[null,2,null,"教職員・外部指導者・部活動指導員",null,null,null,null,null,null,null,null,null,null,"年度千葉県高等学校新人体育大会"]
[null,3,null,"教職員・外部指導者・部活動指導員",null,null,null,null,null,null,null,null,null,null,"ソフトテニス地区大会参加申し込み書"]
[null,4,null,"教職員・外部指導者・部活動指導員",null,null,null,null,null,null,null,null,null,null,"年度千葉県高等学校新人体育大会"]
[null,null,null,"ふりがな",null,null,"学 年","㊤出身中学校(○○市立△△)",null,null,null,null,null,null,"ソフトテニス大会参加申し込み書"]
[null,null,null,"氏　　名",null,null,null,"㊦生年月日(R1.1.1)"]
[null,"選手１",null,{"$f":"IF(入力シート!$F19=\"\",\"\",入力シート!$F19)","v":""},null,null,{"$f":"IF(入力シート!$H19=\"\",\"\",入力シート!$H19)","v":""},{"$f":"IF(選択リスト!$L4=\"\",\"\",選択リスト!$L4)","v":""}]
[null,null,null,{"$f":"IF(入力シート!$E19=\"\",\"\",入力シート!$E19)","v":""}]
[null,null,null,null,null,null,null,{"$f":"IF(入力シート!G19=\"\",\"\",入力シート!G19)","v":""}]
[null,"選手２",null,{"$f":"IF(入力シート!$F20=\"\",\"\",入力シート!$F20)","v":""},null,null,{"$f":"IF(入力シート!$H20=\"\",\"\",入力シート!$H20)","v":""},{"$f":"IF(選択リスト!$L5=\"\",\"\",選択リスト!$L5)","v":""}]
[null,null,null,{"$f":"IF(入力シート!$E20=\"\",\"\",入力シート!$E20)","v":""}]
[null,null,null,null,null,null,null,{"$f":"IF(入力シート!G20=\"\",\"\",入力シート!G20)","v":""}]
[null,"選手３",null,{"$f":"IF(入力シート!$F21=\"\",\"\",入力シート!$F21)","v":""},null,null,{"$f":"IF(入力シート!$H21=\"\",\"\",入力シート!$H21)","v":""},{"$f":"IF(選択リスト!$L6=\"\",\"\",選択リスト!$L6)","v":""}]
[null,null,null,{"$f":"IF(入力シート!$E21=\"\",\"\",入力シート!$E21)","v":""}]
[null,null,null,null,null,null,null,{"$f":"IF(入力シート!G21=\"\",\"\",入力シート!G21)","v":""}]
[null,"選手４",null,{"$f":"IF(入力シート!$F22=\"\",\"\",入力シート!$F22)","v":""},null,null,{"$f":"IF(入力シート!$H22=\"\",\"\",入力シート!$H22)","v":""},{"$f":"IF(選択リスト!$L7=\"\",\"\",選択リスト!$L7)","v":""}]
[null,null,null,{"$f":"IF(入力シート!$E22=\"\",\"\",入力シート!$E22)","v":""}]
[null,null,null,null,null,null,null,{"$f":"IF(入力シート!G22=\"\",\"\",入力シート!G22)","v":""}]
[null,"選手５",null,{"$f":"IF(入力シート!$F23=\"\",\"\",入力シート!$F23)","v":""},null,null,{"$f":"IF(入力シート!$H23=\"\",\"\",入力シート!$H23)","v":""},{"$f":"IF(選択リスト!$L8=\"\",\"\",選択リスト!$L8)","v":""}]
[null,null,null,{"$f":"IF(入力シート!$E23=\"\",\"\",入力シート!$E23)","v":""}]
[null,null,null,null,null,null,null,{"$f":"IF(入力シート!G23=\"\",\"\",入力シート!G23)","v":""}]
[null,"選手６",null,{"$f":"IF(入力シート!$F24=\"\",\"\",入力シート!$F24)","v":""},null,null,{"$f":"IF(入力シート!$H24=\"\",\"\",入力シート!$H24)","v":""},{"$f":"IF(選択リスト!$L9=\"\",\"\",選択リスト!$L9)","v":""}]
[null,null,null,{"$f":"IF(入力シート!$E24=\"\",\"\",入力シート!$E24)","v":""}]
[null,null,null,null,null,null,null,{"$f":"IF(入力シート!G24=\"\",\"\",入力シート!G24)","v":""}]
[null,"選手７",null,{"$f":"IF(入力シート!$F25=\"\",\"\",入力シート!$F25)","v":""},null,null,{"$f":"IF(入力シート!$H25=\"\",\"\",入力シート!$H25)","v":""},{"$f":"IF(選択リスト!$L10=\"\",\"\",選択リスト!$L10)","v":""}]
[null,null,null,{"$f":"IF(入力シート!$E25=\"\",\"\",入力シート!$E25)","v":""}]
[null,null,null,null,null,null,null,{"$f":"IF(入力シート!G25=\"\",\"\",入力シート!G25)","v":""}]
[null,"選手８",null,{"$f":"IF(入力シート!$F26=\"\",\"\",入力シート!$F26)","v":""},null,null,{"$f":"IF(入力シート!$H26=\"\",\"\",入力シート!$H26)","v":""},{"$f":"IF(選択リスト!$L11=\"\",\"\",選択リスト!$L11)","v":""}]
[null,null,null,{"$f":"IF(入力シート!$E25=\"\",\"\",入力シート!$E25)","v":""}]
[null,null,null,null,null,null,null,{"$f":"IF(入力シート!G26=\"\",\"\",入力シート!G26)","v":""}]
[]
[null,"（記入上の注意事項）"]
[null,"１．引率責任者は当該校の教員とする。"]
[null,"２．監督は校長が認める指導者とし、それが外部指導者の場合は傷害・賠償責任保険（スポーツ\n　　安全保険等）に必ず加入することを条件とする。"]
[null,"３．外部指導者とは、非常勤講師、スポーツクラブ指導者、社会体育指導者、当該校の卒業生・\n　　保護者等で校長が認めたものとする。"]
[null,"４．監督は複数校での参加は認めない。"]
[]
[null,"上記の監督は本校教職員または正式に依頼した外部指導員であり、選手は本校在学生徒であるこ\nとを認め、標記大会への参加申込をいたします。"]
[]
[null,{"$f":"START!B6&\"  \"&START!C6&\"  年\"","v":"令和    年"},null,null,"　　  月　　　　　日"]
[null,{"$f":"入力シート!G7&\"長\"","v":"高等学校長"},null,null,null,null,null,null,"印"]
[]
[null,null,null,null,null,"引率責任者（職名）",null,null,"印"]