{"text_format":"1","workbook":"xlsx","n_sheets":6,"sheets":["START","入力シート","印刷用","IDカード","選択リスト","手書き用"],"not_rendered":{"charts":0,"images":0,"macros":1,"external_links":0,"defined_names":3,"comments":0,"pivot_tables":0},"unopened":[],"bounds":{"document_bytes":16777216,"sheet_cells":100000,"rows_first":2000,"rows_last":500,"rows_between":2000,"halvings":0,"cell_chars":16384,"cell_head_chars":4096},"cells_cut":0,"cells_raw":0,"read":"whole","date_system":"1900"}

{"sheet":"START","index":0,"n_rows":7,"n_cols":4,"rows_kept":7,"cut":false,"hidden":false,"merged":[]}
[]
[]
[]
[]
[1,"入力年月日(2024/1/1)"]
[2,{"$f":"入力シート!G3","v":"令和"},null,"年"]
[3,"大会名"]

{"sheet":"入力シート","index":1,"n_rows":78,"n_cols":15,"rows_kept":78,"cut":false,"hidden":false,"merged":[[10,2,10,3],[11,2,11,3],[7,2,7,4],[0,8,0,11],[13,1,14,1],[12,2,12,4],[13,2,13,4],[14,2,14,4],[0,1,0,7],[7,1,11,1],[16,10,16,11],[15,8,15,11],[6,4,6,5],[15,7,16,7],[15,5,16,5],[15,4,16,4],[15,6,16,6],[7,6,7,7],[26,1,37,1],[15,2,16,3],[58,1,77,1],[38,1,57,1],[2,8,2,9],[2,2,2,4],[4,2,4,3],[5,2,5,3],[6,2,6,3],[8,2,8,3],[17,2,17,3],[3,2,3,4],[3,5,3,9],[15,1,25,1],[4,6,5,7],[9,2,9,3]]}
[null,"参加申込書　入力シート　 (個人)",null,null,null,null,null,null,"入力セル（黄色いセル）　\n※列の増減など入力セル以外は変更しないでください"]
[]
[null,1,"入力年月日(2024/1/1)",null,null,{"$f":"IF(START!C5=\"\",\"\",START!C5)","v":""},"令和",{"$f":"IF(START!C6=\"\",\"\",START!C6)","v":""},"年"]
[null,2,"大会名",null,null,{"$f":"START!C7","v":0},null,null,null,null,null,null,null,null,{"$f":"_xlfn.IFS(F4=\"【選択して下さい】\",\"1\",F4=\"関東予選地区大会\",\"2\",F4=\"関東予選県大会\",\"3\",F4=\"総体\",\"4\",F4=\"新人地区予選\",\"5\",F4=\"新人県大会\",\"6\")","v":{"$error":"#N/A"}}]
[null,3,"種別",null,null,"（　男子　・　女子　）","↑元号が違う場合は入力してください"]
[null,4,"地区",null,null,"地区"]
[null,5,"学校名",null,null,null,"高等学校"]
[null,6,"ベンチ入り指導者　氏名",null,null,"教職員OR外部指導員","↑変更できます"]
[null,null,1,null,null,"【選択して下さい】"]
[null,null,2,null,null,"【選択して下さい】"]
[null,null,3,null,null,"【選択して下さい】"]
[null,null,4,null,null,"【選択して下さい】"]
[null,7,"学校長氏名"]
[null,8,"引率責任者氏名"]
[null,null,"引率者責任者職（教諭など）"]
[null,9,"ペア",null,"氏　　名","ふりがな","生年月日","学年","出身中学校"]
[null,null,null,null,null,null,null,null,"都道府県","市町村立","中学校名"]
[null,null,"例",null,"千葉　太郎","ちば　たろう","2010-03-01",2,"千葉県","千葉市立","千葉","中学校"]
[null,null,1,"A",null,null,null,null,null,null,null,"中学校"]
[null,null,null,"B",null,null,null,null,null,null,null,"中学校"]
[null,null,2,"A",null,null,null,null,null,null,null,"中学校"]
[null,null,null,"B",null,null,null,null,null,null,null,"中学校"]
[null,null,3,"A",null,null,null,null,null,null,null,"中学校"]
[null,null,null,"B",null,null,null,null,null,null,null,"中学校"]
[null,null,4,"A",null,null,null,null,null,null,null,"中学校"]
[null,null,null,"B",null,null,null,null,null,null,null,"中学校"]
[null,"（用紙その①）",5,"A",null,null,null,null,null,null,null,"中学校"]
[null,null,null,"B",null,null,null,null,null,null,null,"中学校"]
[null,null,6,"A",null,null,null,null,null,null,null,"中学校"]
[null,null,null,"B",null,null,null,null,null,null,null,"中学校"]
[null,null,7,"A",null,null,null,null,null,null,null,"中学校"]
[null,null,null,"B",null,null,null,null,null,null,null,"中学校"]
[null,null,8,"A",null,null,null,null,null,null,null,"中学校"]
[null,null,null,"B",null,null,null,null,null,null,null,"中学校"]
[null,null,9,"A",null,null,null,null,null,null,null,"中学校"]
[null,null,null,"B",null,null,null,null,null,null,null,"中学校"]
[null,null,10,"A",null,null,null,null,null,null,null,"中学校"]
[null,null,null,"B",null,null,null,null,null,null,null,"中学校"]
[null,"9　　（用紙その②）",11,"A",null,null,null,null,null,null,null,"中学校"]
[null,null,null,"B",null,null,null,null,null,null,null,"中学校"]
[null,null,12,"A",null,null,null,null,null,null,null,"中学校"]
[null,null,null,"B",null,null,null,null,null,null,null,"中学校"]
[null,null,13,"A",null,null,null,null,null,null,null,"中学校"]
[null,null,null,"B",null,null,null,null,null,null,null,"中学校"]
[null,null,14,"A",null,null,null,null,null,null,null,"中学校"]
[null,null,null,"B",null,null,null,null,null,null,null,"中学校"]
[null,null,15,"A",null,null,null,null,null,null,null,"中学校"]
[null,null,null,"B",null,null,null,null,null,null,null,"中学校"]
[null,null,16,"A",null,null,null,null,null,null,null,"中学校"]
[null,null,null,"B",null,null,null,null,null,null,null,"中学校"]
[null,null,17,"A",null,null,null,null,null,null,null,"中学校"]
[null,null,null,"B",null,null,null,null,null,null,null,"中学校"]
[null,null,18,"A",null,null,null,null,null,null,null,"中学校"]
[null,null,null,"B",null,null,null,null,null,null,null,"中学校"]
[null,null,19,"A",null,null,null,null,null,null,null,"中学校"]
[null,null,null,"B",null,null,null,null,null,null,null,"中学校"]
[null,null,20,"A",null,null,null,null,null,null,null,"中学校"]
[null,null,null,"B",null,null,null,null,null,null,null,"中学校"]
[null,"9　　（用紙その③）",21,"A",null,null,null,null,null,null,null,"中学校"]
[null,null,null,"B",null,null,null,null,null,null,null,"中学校"]
[null,null,22,"A",null,null,null,null,null,null,null,"中学校"]
[null,null,null,"B",null,null,null,null,null,null,null,"中学校"]
[null,null,23,"A",null,null,null,null,null,null,null,"中学校"]
[null,null,null,"B",null,null,null,null,null,null,null,"中学校"]
[null,null,24,"A",null,null,null,null,null,null,null,"中学校"]
[null,null,null,"B",null,null,null,null,null,null,null,"中学校"]
[null,null,25,"A",null,null,null,null,null,null,null,"中学校"]
[null,null,null,"B",null,null,null,null,null,null,null,"中学校"]
[null,null,26,"A",null,null,null,null,null,null,null,"中学校"]
[null,null,null,"B",null,null,null,null,null,null,null,"中学校"]
[null,null,27,"A",null,null,null,null,null,null,null,"中学校"]
[null,null,null,"B",null,null,null,null,null,null,null,"中学校"]
[null,null,28,"A",null,null,null,null,null,null,null,"中学校"]
[null,null,null,"B",null,null,null,null,null,null,null,"中学校"]
[null,null,29,"A",null,null,null,null,null,null,null,"中学校"]
[null,null,null,"B",null,null,null,null,null,null,null,"中学校"]
[null,null,30,"A",null,null,null,null,null,null,null,"中学校"]
[null,null,null,"B",null,null,null,null,null,null,null,"中学校"]

{"sheet":"印刷用","index":2,"n_rows":138,"n_cols":15,"rows_kept":138,"cut":false,"hidden":false,"merged":[[137,4,137,6],[137,7,137,8],[130,1,130,9],[132,1,132,9],[135,1,135,6],[135,7,135,8],[126,1,126,9],[127,1,127,9],[128,1,128,9],[129,1,129,9],[134,5,134,6],[134,1,134,2],[120,3,120,5],[121,3,121,5],[122,3,122,5],[123,3,123,5],[119,1,120,1],[121,1,122,1],[123,1,124,1],[124,3,124,5],[116,3,116,5],[117,3,117,5],[118,3,118,5],[119,3,119,5],[115,1,116,1],[117,1,118,1],[112,3,112,5],[113,3,113,5],[114,3,114,5],[115,3,115,5],[111,1,112,1],[113,1,114,1],[108,3,108,5],[109,3,109,5],[110,3,110,5],[111,3,111,5],[107,1,108,1],[109,1,110,1],[104,3,104,5],[105,3,105,5],[106,3,106,5],[107,3,107,5],[104,1,104,2],[105,1,106,1],[102,1,102,2],[102,3,102,6],[102,7,102,9],[103,1,103,2],[103,3,103,6],[103,7,103,9],[100,1,100,2],[100,3,100,6],[100,7,100,9],[101,1,101,2],[101,3,101,6],[101,7,101,9],[97,1,97,2],[99,7,99,9],[97,3,97,5],[97,6,97,7],[98,1,98,2],[98,3,98,8],[99,1,99,6],[94,1,94,3],[94,5,94,9],[95,1,95,9],[96,1,96,7],[85,1,85,9],[88,1,88,6],[88,7,88,8],[90,4,90,6],[90,7,90,8],[87,5,87,6],[87,1,87,2],[79,1,79,9],[80,1,80,9],[81,1,81,9],[82,1,82,9],[83,1,83,9],[74,1,75,1],[74,3,74,5],[75,3,75,5],[76,1,77,1],[76,3,76,5],[77,3,77,5],[70,1,71,1],[70,3,70,5],[71,3,71,5],[72,1,73,1],[72,3,72,5],[73,3,73,5],[66,1,67,1],[66,3,66,5],[67,3,67,5],[68,1,69,1],[68,3,68,5],[69,3,69,5],[62,1,63,1],[62,3,62,5],[63,3,63,5],[64,1,65,1],[64,3,64,5],[65,3,65,5],[58,1,59,1],[58,3,58,5],[59,3,59,5],[60,1,61,1],[60,3,60,5],[61,3,61,5],[56,1,56,2],[56,3,56,6],[56,7,56,9],[57,1,57,2],[57,3,57,5],[54,1,54,2],[54,3,54,6],[54,7,54,9],[55,1,55,2],[55,3,55,6],[55,7,55,9],[40,5,40,6],[29,3,29,5],[23,1,24,1],[23,3,23,5],[24,3,24,5],[43,4,43,6],[41,1,41,6],[30,3,30,5],[40,1,40,2],[29,1,30,1],[51,1,51,2],[51,3,51,8],[52,1,52,6],[52,7,52,9],[53,1,53,2],[53,3,53,6],[53,7,53,9],[48,1,48,9],[49,1,49,7],[50,1,50,2],[50,3,50,5],[50,6,50,7],[47,1,47,3],[47,5,47,9],[43,7,43,8],[10,3,10,5],[11,3,11,5],[12,3,12,5],[13,3,13,5],[16,3,16,5],[19,3,19,5],[22,3,22,5],[41,7,41,8],[32,1,32,9],[33,1,33,9],[34,1,34,9],[35,1,35,9],[36,1,36,9],[38,1,38,9],[25,3,25,5],[25,1,26,1],[26,3,26,5],[19,1,20,1],[20,3,20,5],[21,1,22,1],[21,3,21,5],[0,5,0,9],[0,1,0,3],[3,3,3,5],[4,3,4,8],[3,6,3,7],[8,7,8,9],[9,1,9,2],[9,7,9,9],[10,1,10,2],[8,3,8,6],[9,3,9,6],[5,7,5,9],[6,1,6,2],[6,7,6,9],[7,1,7,2],[7,7,7,9],[6,3,6,6],[7,3,7,6],[5,1,5,6],[1,1,1,9],[2,1,2,7],[3,1,3,2],[4,1,4,2],[8,1,8,2],[13,1,14,1],[14,3,14,5],[15,1,16,1],[15,3,15,5],[17,1,18,1],[17,3,17,5],[18,3,18,5],[11,1,12,1],[27,1,28,1],[27,3,27,5],[28,3,28,5]]}
[null,{"$f":"入力シート!G3","v":"令和"},null,null,{"$f":"入力シート!H3","v":""},{"$f":"_xlfn.IFS(M4=\"1\",\"\",M4=\"2\",O2,M4=\"3\",O4,M4=\"4\",O6,M4=\"5\",O8,M4=\"6\",O10)","v":{"$error":"#N/A"}}]
[null,{"$f":"_xlfn.IFS(M4=\"1\",\"\",M4=\"2\",O3,M4=\"3\",O5,M4=\"4\",O7,M4=\"5\",O9,M4=\"6\",O11)","v":{"$error":"#N/A"}},null,null,null,null,null,null,null,null,null,null,null,null,"年度関東高等学校ソフトテニス大会"]
[null,"千葉県高等学校体育連盟会長　様",null,null,null,null,null,null,null,"その①",null,null,null,null,"千葉県予選会地区大会参加申し込み書"]
[null,"種 別",null,{"$f":"IF(入力シート!E5=\"\",\"\",入力シート!E5)","v":""},null,null,"個　　人",null,"地区",{"$f":"IF(入力シート!E6=\"\",\"\",入力シート!E6)","v":""},null,null,{"$f":"入力シート!O4","v":{"$error":"#N/A"}},null,"年度関東高等学校ソフトテニス大会"]
[null,"学校名",null,{"$f":"IF(入力シート!E7=\"\",\"【入力して下さい】\",入力シート!E7)","v":"【入力して下さい】"},null,null,null,null,null,{"$f":"IF(入力シート!G7=\"\",\"\",入力シート!G7)","v":"高等学校"},null,null,null,null,"千葉県予選会参加申し込み書"]
[null,"ベンチ入り指導者",null,null,null,null,null,"氏　　　名",null,null,null,null,null,null,"年度千葉県高等学校総合体育大会"]
[null,1,null,{"$f":"_xlfn.IFS(入力シート!F9=\"\",\"\",入力シート!F9=\"【選択して下さい】\",\"\",入力シート!F9=\"教職員\",\"教職員\",入力シート!F9=\"外部指導者\",\"外部指導者\",入力シート!F9=\"部活動指導員\",\"部活動指導員\")","v":""},null,null,null,{"$f":"IF(入力シート!E9=\"\",\"\",入力シート!E9)","v":""},null,null,null,null,null,null,"ソフトテニス大会参加申し込み書"]
[null,2,null,{"$f":"_xlfn.IFS(入力シート!F10=\"\",\"\",入力シート!F10=\"【選択して下さい】\",\"\",入力シート!F10=\"教職員\",\"教職員\",入力シート!F10=\"外部指導者\",\"外部指導者\",入力シート!F10=\"部活動指導員\",\"部活動指導員\")","v":""},null,null,null,{"$f":"IF(入力シート!E10=\"\",\"\",入力シート!E10)","v":""},null,null,null,null,null,null,"年度千葉県高等学校新人体育大会"]
[null,3,null,{"$f":"_xlfn.IFS(入力シート!F11=\"\",\"\",入力シート!F11=\"【選択して下さい】\",\"\",入力シート!F11=\"教職員\",\"教職員\",入力シート!F11=\"外部指導者\",\"外部指導者\",入力シート!F11=\"部活動指導員\",\"部活動指導員\")","v":""},null,null,null,{"$f":"IF(入力シート!E11=\"\",\"\",入力シート!E11)","v":""},null,null,null,null,null,null,"ソフトテニス地区大会参加申し込み書"]
[null,4,null,{"$f":"_xlfn.IFS(入力シート!F12=\"\",\"\",入力シート!F12=\"【選択して下さい】\",\"\",入力シート!F12=\"教職員\",\"教職員\",入力シート!F12=\"外部指導者\",\"外部指導者\",入力シート!F12=\"部活動指導員\",\"部活動指導員\")","v":""},null,null,null,{"$f":"IF(入力シート!E12=\"\",\"\",入力シート!E12)","v":""},null,null,null,null,null,null,"年度千葉県高等学校新人体育大会"]
[null,"ペア",null,"氏　　名",null,null,"ふりがな","学年","生年月日","出身中学校",null,null,null,null,"ソフトテニス大会参加申し込み書"]
[null,1,"A",{"$f":"IF(入力シート!E19=\"\",\"\",入力シート!E19)","v":""},null,null,{"$f":"IF(入力シート!F19=\"\",\"\",入力シート!F19)","v":""},{"$f":"IF(入力シート!H19=\"\",\"\",入力シート!H19)","v":""},{"$f":"IF(入力シート!G19=\"\",\"\",入力シート!G19)","v":""},{"$f":"IF(選択リスト!L4=\"\",\"\",選択リスト!L4)","v":""}]
[null,null,"B",{"$f":"IF(入力シート!E20=\"\",\"\",入力シート!E20)","v":""},null,null,{"$f":"IF(入力シート!F20=\"\",\"\",入力シート!F20)","v":""},{"$f":"IF(入力シート!H20=\"\",\"\",入力シート!H20)","v":""},{"$f":"IF(入力シート!G20=\"\",\"\",入力シート!G20)","v":""},{"$f":"IF(選択リスト!L5=\"\",\"\",選択リスト!L5)","v":""}]
[null,2,"A",{"$f":"IF(入力シート!E21=\"\",\"\",入力シート!E21)","v":""},null,null,{"$f":"IF(入力シート!F21=\"\",\"\",入力シート!F21)","v":""},{"$f":"IF(入力シート!H21=\"\",\"\",入力シート!H21)","v":""},{"$f":"IF(入力シート!G21=\"\",\"\",入力シート!G21)","v":""},{"$f":"IF(選択リスト!L6=\"\",\"\",選択リスト!L6)","v":""}]
[null,null,"B",{"$f":"IF(入力シート!E22=\"\",\"\",入力シート!E22)","v":""},null,null,{"$f":"IF(入力シート!F22=\"\",\"\",入力シート!F22)","v":""},{"$f":"IF(入力シート!H22=\"\",\"\",入力シート!H22)","v":""},{"$f":"IF(入力シート!G22=\"\",\"\",入力シート!G22)","v":""},{"$f":"IF(選択リスト!L7=\"\",\"\",選択リスト!L7)","v":""}]
[null,3,"A",{"$f":"IF(入力シート!E23=\"\",\"\",入力シート!E23)","v":""},null,null,{"$f":"IF(入力シート!F23=\"\",\"\",入力シート!F23)","v":""},{"$f":"IF(入力シート!H23=\"\",\"\",入力シート!H23)","v":""},{"$f":"IF(入力シート!G23=\"\",\"\",入力シート!G23)","v":""},{"$f":"IF(選択リスト!L8=\"\",\"\",選択リスト!L8)","v":""}]
[null,null,"B",{"$f":"IF(入力シート!E24=\"\",\"\",入力シート!E24)","v":""},null,null,{"$f":"IF(入力シート!F24=\"\",\"\",入力シート!F24)","v":""},{"$f":"IF(入力シート!H24=\"\",\"\",入力シート!H24)","v":""},{"$f":"IF(入力シート!G24=\"\",\"\",入力シート!G24)","v":""},{"$f":"IF(選択リスト!L9=\"\",\"\",選択リスト!L9)","v":""}]
[null,4,"A",{"$f":"IF(入力シート!E25=\"\",\"\",入力シート!E25)","v":""},null,null,{"$f":"IF(入力シート!F25=\"\",\"\",入力シート!F25)","v":""},{"$f":"IF(入力シート!H25=\"\",\"\",入力シート!H25)","v":""},{"$f":"IF(入力シート!G25=\"\",\"\",入力シート!G25)","v":""},{"$f":"IF(選択リスト!L10=\"\",\"\",選択リスト!L10)","v":""}]
[null,null,"B",{"$f":"IF(入力シート!E26=\"\",\"\",入力シート!E26)","v":""},null,null,{"$f":"IF(入力シート!F26=\"\",\"\",入力シート!F26)","v":""},{"$f":"IF(入力シート!H26=\"\",\"\",入力シート!H26)","v":""},{"$f":"IF(入力シート!G26=\"\",\"\",入力シート!G26)","v":""},{"$f":"IF(選択リスト!L11=\"\",\"\",選択リスト!L11)","v":""}]
[null,5,"A",{"$f":"IF(入力シート!E27=\"\",\"\",入力シート!E27)","v":""},null,null,{"$f":"IF(入力シート!F27=\"\",\"\",入力シート!F27)","v":""},{"$f":"IF(入力シート!H27=\"\",\"\",入力シート!H27)","v":""},{"$f":"IF(入力シート!G27=\"\",\"\",入力シート!G27)","v":""},{"$f":"IF(選択リスト!L12=\"\",\"\",選択リスト!L12)","v":""}]
[null,null,"B",{"$f":"IF(入力シート!E28=\"\",\"\",入力シート!E28)","v":""},null,null,{"$f":"IF(入力シート!F28=\"\",\"\",入力シート!F28)","v":""},{"$f":"IF(入力シート!H28=\"\",\"\",入力シート!H28)","v":""},{"$f":"IF(入力シート!G28=\"\",\"\",入力シート!G28)","v":""},{"$f":"IF(選択リスト!L13=\"\",\"\",選択リスト!L13)","v":""}]
[null,6,"A",{"$f":"IF(入力シート!E29=\"\",\"\",入力シート!E29)","v":""},null,null,{"$f":"IF(入力シート!F29=\"\",\"\",入力シート!F29)","v":""},{"$f":"IF(入力シート!H29=\"\",\"\",入力シート!H29)","v":""},{"$f":"IF(入力シート!G29=\"\",\"\",入力シート!G29)","v":""},{"$f":"IF(選択リスト!L14=\"\",\"\",選択リスト!L14)","v":""}]
[null,null,"B",{"$f":"IF(入力シート!E30=\"\",\"\",入力シート!E30)","v":""},null,null,{"$f":"IF(入力シート!F30=\"\",\"\",入力シート!F30)","v":""},{"$f":"IF(入力シート!H30=\"\",\"\",入力シート!H30)","v":""},{"$f":"IF(入力シート!G30=\"\",\"\",入力シート!G30)","v":""},{"$f":"IF(選択リスト!L15=\"\",\"\",選択リスト!L15)","v":""}]
[null,7,"A",{"$f":"IF(入力シート!E31=\"\",\"\",入力シート!E31)","v":""},null,null,{"$f":"IF(入力シート!F31=\"\",\"\",入力シート!F31)","v":""},{"$f":"IF(入力シート!H31=\"\",\"\",入力シート!H31)","v":""},{"$f":"IF(入力シート!G31=\"\",\"\",入力シート!G31)","v":""},{"$f":"IF(選択リスト!L16=\"\",\"\",選択リスト!L16)","v":""}]
[null,null,"B",{"$f":"IF(入力シート!E32=\"\",\"\",入力シート!E32)","v":""},null,null,{"$f":"IF(入力シート!F32=\"\",\"\",入力シート!F32)","v":""},{"$f":"IF(入力シート!H32=\"\",\"\",入力シート!H32)","v":""},{"$f":"IF(入力シート!G32=\"\",\"\",入力シート!G32)","v":""},{"$f":"IF(選択リスト!L17=\"\",\"\",選択リスト!L17)","v":""}]
[null,8,"A",{"$f":"IF(入力シート!E33=\"\",\"\",入力シート!E33)","v":""},null,null,{"$f":"IF(入力シート!F33=\"\",\"\",入力シート!F33)","v":""},{"$f":"IF(入力シート!H33=\"\",\"\",入力シート!H33)","v":""},{"$f":"IF(入力シート!G33=\"\",\"\",入力シート!G33)","v":""},{"$f":"IF(選択リスト!L18=\"\",\"\",選択リスト!L18)","v":""}]
[null,null,"B",{"$f":"IF(入力シート!E34=\"\",\"\",入力シート!E34)","v":""},null,null,{"$f":"IF(入力シート!F34=\"\",\"\",入力シート!F34)","v":""},{"$f":"IF(入力シート!H34=\"\",\"\",入力シート!H34)","v":""},{"$f":"IF(入力シート!G34=\"\",\"\",入力シート!G34)","v":""},{"$f":"IF(選択リスト!L19=\"\",\"\",選択リスト!L19)","v":""}]
[null,9,"A",{"$f":"IF(入力シート!E35=\"\",\"\",入力シート!E35)","v":""},null,null,{"$f":"IF(入力シート!F35=\"\",\"\",入力シート!F35)","v":""},{"$f":"IF(入力シート!H35=\"\",\"\",入力シート!H35)","v":""},{"$f":"IF(入力シート!G35=\"\",\"\",入力シート!G35)","v":""},{"$f":"IF(選択リスト!L20=\"\",\"\",選択リスト!L20)","v":""}]
[null,null,"B",{"$f":"IF(入力シート!E36=\"\",\"\",入力シート!E36)","v":""},null,null,{"$f":"IF(入力シート!F36=\"\",\"\",入力シート!F36)","v":""},{"$f":"IF(入力シート!H36=\"\",\"\",入力シート!H36)","v":""},{"$f":"IF(入力シート!G36=\"\",\"\",入力シート!G36)","v":""},{"$f":"IF(選択リスト!L21=\"\",\"\",選択リスト!L21)","v":""}]
[null,10,"A",{"$f":"IF(入力シート!E37=\"\",\"\",入力シート!E37)","v":""},null,null,{"$f":"IF(入力シート!F37=\"\",\"\",入力シート!F37)","v":""},{"$f":"IF(入力シート!H37=\"\",\"\",入力シート!H37)","v":""},{"$f":"IF(入力シート!G37=\"\",\"\",入力シート!G37)","v":""},{"$f":"IF(選択リスト!L22=\"\",\"\",選択リスト!L22)","v":""}]
[null,null,"B",{"$f":"IF(入力シート!E38=\"\",\"\",入力シート!E38)","v":""},null,null,{"$f":"IF(入力シート!F38=\"\",\"\",入力シート!F38)","v":""},{"$f":"IF(入力シート!H38=\"\",\"\",入力シート!H38)","v":""},{"$f":"IF(入力シート!G38=\"\",\"\",入力シート!G38)","v":""},{"$f":"IF(選択リスト!L23=\"\",\"\",選択リスト!L23)","v":""}]
[]
[null,"（記入上の注意事項）"]
[null,"１．引率責任者は当該校の教員とする。"]
[null,"２．監督は校長が認める指導者とし、それが外部指導者の場合は傷害・賠償責任保険（スポーツ\n　　安全保険等）に必ず加入することを条件とする。"]
[null,"３．外部指導者とは、非常勤講師、スポーツクラブ指導者、社会体育指導者、当該校の卒業生・\n　　保護者等で校長が認めたものとする。"]
[null,"４．監督は複数校での参加は認めない。"]
[]
[null,"上記の監督は本校教職員または正式に依頼した外部指導員であり、選手は本校在学生徒であるこ\nとを認め、標記大会への参加申込をいたします。"]
[]
[null,{"$f":"入力シート!G3","v":"令和"},null,{"$f":"入力シート!H3","v":""},"年",{"$f":"IF(入力シート!F3=\"\",\"【入力して下さい】\",入力シート!F3)","v":"【入力して下さい】"}]
[null,{"$f":"IF(入力シート!E7=\"\",\"【入力して下さい】\",入力シート!E7)","v":"【入力して下さい】"},null,null,null,null,null,{"$f":"入力シート!G7&\"長\"","v":"高等学校長"},null,{"$f":"IF(入力シート!F13=\"\",\"【入力して下さい】\",選択リスト!H4)","v":"【入力して下さい】"}]
[]
[null,null,null,null,"引率責任者（職名）",null,null,{"$f":"IF(入力シート!F15=\"\",\"【入力して下さい】\",選択リスト!H8)","v":"【入力して下さい】"},null,{"$f":"IF(入力シート!F14=\"\",\"【入力して下さい】\",選択リスト!H6)","v":"【入力して下さい】"}]
[]
[]
[]
[null,{"$f":"B1","v":"令和"},null,null,{"$f":"E1","v":""},{"$f":"F1","v":{"$error":"#N/A"}}]
[null,{"$f":"B2","v":{"$error":"#N/A"}}]
[null,"千葉県高等学校体育連盟会長　様",null,null,null,null,null,null,null,"その②"]
[null,"種 別",null,{"$f":"D4","v":""},null,null,"個　　人",null,"地区",{"$f":"J4","v":""}]
[null,"学校名",null,{"$f":"D5","v":"【入力して下さい】"},null,null,null,null,null,{"$f":"J5","v":"高等学校"}]
[null,{"$f":"B6","v":"ベンチ入り指導者"},null,null,null,null,null,"氏　　　名"]
[null,1,null,{"$f":"D7","v":""},null,null,null,{"$f":"H7","v":""}]
[null,2,null,{"$f":"D8","v":""},null,null,null,{"$f":"H8","v":""}]
[null,3,null,{"$f":"D9","v":""},null,null,null,{"$f":"H9","v":""}]
[null,4,null,{"$f":"D10","v":""},null,null,null,{"$f":"H10","v":""}]
[null,"ペア",null,"氏　　名",null,null,"ふりがな","学年","生年月日","出身中学校"]
[null,11,"A",{"$f":"IF(入力シート!E39=\"\",\"\",入力シート!E39)","v":""},null,null,{"$f":"IF(入力シート!F39=\"\",\"\",入力シート!F39)","v":""},{"$f":"IF(入力シート!H39=\"\",\"\",入力シート!H39)","v":""},{"$f":"IF(入力シート!G39=\"\",\"\",入力シート!G39)","v":""},{"$f":"IF(選択リスト!L24=\"\",\"\",選択リスト!L24)","v":""}]
[null,null,"B",{"$f":"IF(入力シート!E40=\"\",\"\",入力シート!E40)","v":""},null,null,{"$f":"IF(入力シート!F40=\"\",\"\",入力シート!F40)","v":""},{"$f":"IF(入力シート!H40=\"\",\"\",入力シート!H40)","v":""},{"$f":"IF(入力シート!G40=\"\",\"\",入力シート!G40)","v":""},{"$f":"IF(選択リスト!L25=\"\",\"\",選択リスト!L25)","v":""}]
[null,12,"A",{"$f":"IF(入力シート!E41=\"\",\"\",入力シート!E41)","v":""},null,null,{"$f":"IF(入力シート!F41=\"\",\"\",入力シート!F41)","v":""},{"$f":"IF(入力シート!H41=\"\",\"\",入力シート!H41)","v":""},{"$f":"IF(入力シート!G41=\"\",\"\",入力シート!G41)","v":""},{"$f":"IF(選択リスト!L26=\"\",\"\",選択リスト!L26)","v":""}]
[null,null,"B",{"$f":"IF(入力シート!E42=\"\",\"\",入力シート!E42)","v":""},null,null,{"$f":"IF(入力シート!F42=\"\",\"\",入力シート!F42)","v":""},{"$f":"IF(入力シート!H42=\"\",\"\",入力シート!H42)","v":""},{"$f":"IF(入力シート!G42=\"\",\"\",入力シート!G42)","v":""},{"$f":"IF(選択リスト!L27=\"\",\"\",選択リスト!L27)","v":""}]
[null,13,"A",{"$f":"IF(入力シート!E43=\"\",\"\",入力シート!E43)","v":""},null,null,{"$f":"IF(入力シート!F43=\"\",\"\",入力シート!F43)","v":""},{"$f":"IF(入力シート!H43=\"\",\"\",入力シート!H43)","v":""},{"$f":"IF(入力シート!G43=\"\",\"\",入力シート!G43)","v":""},{"$f":"IF(選択リスト!L28=\"\",\"\",選択リスト!L28)","v":""}]
[null,null,"B",{"$f":"IF(入力シート!E44=\"\",\"\",入力シート!E44)","v":""},null,null,{"$f":"IF(入力シート!F44=\"\",\"\",入力シート!F44)","v":""},{"$f":"IF(入力シート!H44=\"\",\"\",入力シート!H44)","v":""},{"$f":"IF(入力シート!G44=\"\",\"\",入力シート!G44)","v":""},{"$f":"IF(選択リスト!L29=\"\",\"\",選択リスト!L29)","v":""}]
[null,14,"A",{"$f":"IF(入力シート!E45=\"\",\"\",入力シート!E45)","v":""},null,null,{"$f":"IF(入力シート!F45=\"\",\"\",入力シート!F45)","v":""},{"$f":"IF(入力シート!H45=\"\",\"\",入力シート!H45)","v":""},{"$f":"IF(入力シート!G45=\"\",\"\",入力シート!G45)","v":""},{"$f":"IF(選択リスト!L30=\"\",\"\",選択リスト!L30)","v":""}]
[null,null,"B",{"$f":"IF(入力シート!E46=\"\",\"\",入力シート!E46)","v":""},null,null,{"$f":"IF(入力シート!F46=\"\",\"\",入力シート!F46)","v":""},{"$f":"IF(入力シート!H46=\"\",\"\",入力シート!H46)","v":""},{"$f":"IF(入力シート!G46=\"\",\"\",入力シート!G46)","v":""},{"$f":"IF(選択リスト!L31=\"\",\"\",選択リスト!L31)","v":""}]
[null,15,"A",{"$f":"IF(入力シート!E47=\"\",\"\",入力シート!E47)","v":""},null,null,{"$f":"IF(入力シート!F47=\"\",\"\",入力シート!F47)","v":""},{"$f":"IF(入力シート!H47=\"\",\"\",入力シート!H47)","v":""},{"$f":"IF(入力シート!G47=\"\",\"\",入力シート!G47)","v":""},{"$f":"IF(選択リスト!L32=\"\",\"\",選択リスト!L32)","v":""}]
[null,null,"B",{"$f":"IF(入力シート!E48=\"\",\"\",入力シート!E48)","v":""},null,null,{"$f":"IF(入力シート!F48=\"\",\"\",入力シート!F48)","v":""},{"$f":"IF(入力シート!H48=\"\",\"\",入力シート!H48)","v":""},{"$f":"IF(入力シート!G48=\"\",\"\",入力シート!G48)","v":""},{"$f":"IF(選択リスト!L33=\"\",\"\",選択リスト!L33)","v":""}]
[null,16,"A",{"$f":"IF(入力シート!E49=\"\",\"\",入力シート!E49)","v":""},null,null,{"$f":"IF(入力シート!F49=\"\",\"\",入力シート!F49)","v":""},{"$f":"IF(入力シート!H49=\"\",\"\",入力シート!H49)","v":""},{"$f":"IF(入力シート!G49=\"\",\"\",入力シート!G49)","v":""},{"$f":"IF(選択リスト!L34=\"\",\"\",選択リスト!L34)","v":""}]
[null,null,"B",{"$f":"IF(入力シート!E50=\"\",\"\",入力シート!E50)","v":""},null,null,{"$f":"IF(入力シート!F50=\"\",\"\",入力シート!F50)","v":""},{"$f":"IF(入力シート!H50=\"\",\"\",入力シート!H50)","v":""},{"$f":"IF(入力シート!G50=\"\",\"\",入力シート!G50)","v":""},{"$f":"IF(選択リスト!L35=\"\",\"\",選択リスト!L35)","v":""}]
[null,17,"A",{"$f":"IF(入力シート!E51=\"\",\"\",入力シート!E51)","v":""},null,null,{"$f":"IF(入力シート!F51=\"\",\"\",入力シート!F51)","v":""},{"$f":"IF(入力シート!H51=\"\",\"\",入力シート!H51)","v":""},{"$f":"IF(入力シート!G51=\"\",\"\",入力シート!G51)","v":""},{"$f":"IF(選択リスト!L36=\"\",\"\",選択リスト!L36)","v":""}]
[null,null,"B",{"$f":"IF(入力シート!E52=\"\",\"\",入力シート!E52)","v":""},null,null,{"$f":"IF(入力シート!F52=\"\",\"\",入力シート!F52)","v":""},{"$f":"IF(入力シート!H52=\"\",\"\",入力シート!H52)","v":""},{"$f":"IF(入力シート!G52=\"\",\"\",入力シート!G52)","v":""},{"$f":"IF(選択リスト!L37=\"\",\"\",選択リスト!L37)","v":""}]
[null,18,"A",{"$f":"IF(入力シート!E53=\"\",\"\",入力シート!E53)","v":""},null,null,{"$f":"IF(入力シート!F53=\"\",\"\",入力シート!F53)","v":""},{"$f":"IF(入力シート!H53=\"\",\"\",入力シート!H53)","v":""},{"$f":"IF(入力シート!G53=\"\",\"\",入力シート!G53)","v":""},{"$f":"IF(選択リスト!L38=\"\",\"\",選択リスト!L38)","v":""}]
[null,null,"B",{"$f":"IF(入力シート!E54=\"\",\"\",入力シート!E54)","v":""},null,null,{"$f":"IF(入力シート!F54=\"\",\"\",入力シート!F54)","v":""},{"$f":"IF(入力シート!H54=\"\",\"\",入力シート!H54)","v":""},{"$f":"IF(入力シート!G54=\"\",\"\",入力シート!G54)","v":""},{"$f":"IF(選択リスト!L39=\"\",\"\",選択リスト!L39)","v":""}]
[null,19,"A",{"$f":"IF(入力シート!E55=\"\",\"\",入力シート!E55)","v":""},null,null,{"$f":"IF(入力シート!F55=\"\",\"\",入力シート!F55)","v":""},{"$f":"IF(入力シート!H55=\"\",\"\",入力シート!H55)","v":""},{"$f":"IF(入力シート!G55=\"\",\"\",入力シート!G55)","v":""},{"$f":"IF(選択リスト!L40=\"\",\"\",選択リスト!L40)","v":""}]
[null,null,"B",{"$f":"IF(入力シート!E56=\"\",\"\",入力シート!E56)","v":""},null,null,{"$f":"IF(入力シート!F56=\"\",\"\",入力シート!F56)","v":""},{"$f":"IF(入力シート!H56=\"\",\"\",入力シート!H56)","v":""},{"$f":"IF(入力シート!G56=\"\",\"\",入力シート!G56)","v":""},{"$f":"IF(選択リスト!L41=\"\",\"\",選択リスト!L41)","v":""}]
[null,20,"A",{"$f":"IF(入力シート!E57=\"\",\"\",入力シート!E57)","v":""},null,null,{"$f":"IF(入力シート!F57=\"\",\"\",入力シート!F57)","v":""},{"$f":"IF(入力シート!H57=\"\",\"\",入力シート!H57)","v":""},{"$f":"IF(入力シート!G57=\"\",\"\",入力シート!G57)","v":""},{"$f":"IF(選択リスト!L42=\"\",\"\",選択リスト!L42)","v":""}]
[null,null,"B",{"$f":"IF(入力シート!E58=\"\",\"\",入力シート!E58)","v":""},null,null,{"$f":"IF(入力シート!F58=\"\",\"\",入力シート!F58)","v":""},{"$f":"IF(入力シート!H58=\"\",\"\",入力シート!H58)","v":""},{"$f":"IF(入力シート!G58=\"\",\"\",入力シート!G58)","v":""},{"$f":"IF(選択リスト!L43=\"\",\"\",選択リスト!L43)","v":""}]
[]
[null,{"$f":"B33","v":"（記入上の注意事項）"}]
[null,{"$f":"B34","v":"１．引率責任者は当該校の教員とする。"}]
[null,{"$f":"B35","v":"２．監督は校長が認める指導者とし、それが外部指導者の場合は傷害・賠償責任保険（スポーツ\n　　安全保険等）に必ず加入することを条件とする。"}]
[null,"３．外部指導者とは、非常勤講師、スポーツクラブ指導者、社会体育指導者、当該校の卒業生・\n　　保護者等で校長が認めたものとする。"]
[null,"４．監督は複数校での参加は認めない。"]
[]
[null,{"$f":"B39","v":"上記の監督は本校教職員または正式に依頼した外部指導員であり、選手は本校在学生徒であるこ\nとを認め、標記大会への参加申込をいたします。"}]
[]
[null,{"$f":"B41","v":"令和"},null,{"$f":"D41","v":""},"年",{"$f":"F41","v":"【入力して下さい】"}]
[null,{"$f":"B42","v":"【入力して下さい】"},null,null,null,null,null,{"$f":"H42","v":"高等学校長"},null,{"$f":"J42","v":"【入力して下さい】"}]
[]
[null,null,null,null,{"$f":"E44","v":"引率責任者（職名）"},null,null,{"$f":"H44","v":"【入力して下さい】"},null,{"$f":"J44","v":"【入力して下さい】"}]
[]
[]
[]
[null,{"$f":"B48","v":"令和"},null,null,{"$f":"E48","v":""},{"$f":"F48","v":{"$error":"#N/A"}}]
[null,{"$f":"B49","v":{"$error":"#N/A"}}]
[null,"千葉県高等学校体育連盟会長　様",null,null,null,null,null,null,null,"その③"]
[null,"種 別",null,{"$f":"D51","v":""},null,null,"個　　人",null,"地区",{"$f":"J51","v":""}]
[null,"学校名",null,{"$f":"D52","v":"【入力して下さい】"},null,null,null,null,null,{"$f":"J52","v":"高等学校"}]
[null,{"$f":"B6","v":"ベンチ入り指導者"},null,null,null,null,null,"氏　　　名"]
[null,1,null,{"$f":"D54","v":""},null,null,null,{"$f":"H54","v":""}]
[null,2,null,{"$f":"D55","v":""},null,null,null,{"$f":"H55","v":""}]
[null,3,null,"",null,null,null,""]
[null,4,null,"",null,null,null,""]
[null,"ペア",null,"氏　　名",null,null,"ふりがな","学年","生年月日","出身中学校"]
[null,21,"A",{"$f":"IF(入力シート!E59=\"\",\"\",入力シート!E59)","v":""},null,null,{"$f":"IF(入力シート!F59=\"\",\"\",入力シート!F59)","v":""},{"$f":"IF(入力シート!H59=\"\",\"\",入力シート!H59)","v":""},{"$f":"IF(入力シート!G59=\"\",\"\",入力シート!G59)","v":""},{"$f":"IF(選択リスト!L44=\"\",\"\",選択リスト!L44)","v":""}]
[null,null,"B",{"$f":"IF(入力シート!E60=\"\",\"\",入力シート!E60)","v":""},null,null,{"$f":"IF(入力シート!F60=\"\",\"\",入力シート!F60)","v":""},{"$f":"IF(入力シート!H60=\"\",\"\",入力シート!H60)","v":""},{"$f":"IF(入力シート!G60=\"\",\"\",入力シート!G60)","v":""},{"$f":"IF(選択リスト!L45=\"\",\"\",選択リスト!L45)","v":""}]
[null,22,"A",{"$f":"IF(入力シート!E61=\"\",\"\",入力シート!E61)","v":""},null,null,{"$f":"IF(入力シート!F61=\"\",\"\",入力シート!F61)","v":""},{"$f":"IF(入力シート!H61=\"\",\"\",入力シート!H61)","v":""},{"$f":"IF(入力シート!G61=\"\",\"\",入力シート!G61)","v":""},{"$f":"IF(選択リスト!L46=\"\",\"\",選択リスト!L46)","v":""}]
[null,null,"B",{"$f":"IF(入力シート!E62=\"\",\"\",入力シート!E62)","v":""},null,null,{"$f":"IF(入力シート!F62=\"\",\"\",入力シート!F62)","v":""},{"$f":"IF(入力シート!H62=\"\",\"\",入力シート!H62)","v":""},{"$f":"IF(入力シート!G62=\"\",\"\",入力シート!G62)","v":""},{"$f":"IF(選択リスト!L47=\"\",\"\",選択リスト!L47)","v":""}]
[null,23,"A",{"$f":"IF(入力シート!E63=\"\",\"\",入力シート!E63)","v":""},null,null,{"$f":"IF(入力シート!F63=\"\",\"\",入力シート!F63)","v":""},{"$f":"IF(入力シート!H63=\"\",\"\",入力シート!H63)","v":""},{"$f":"IF(入力シート!G63=\"\",\"\",入力シート!G63)","v":""},{"$f":"IF(選択リスト!L48=\"\",\"\",選択リスト!L48)","v":""}]
[null,null,"B",{"$f":"IF(入力シート!E64=\"\",\"\",入力シート!E64)","v":""},null,null,{"$f":"IF(入力シート!F64=\"\",\"\",入力シート!F64)","v":""},{"$f":"IF(入力シート!H64=\"\",\"\",入力シート!H64)","v":""},{"$f":"IF(入力シート!G64=\"\",\"\",入力シート!G64)","v":""},{"$f":"IF(選択リスト!L49=\"\",\"\",選択リスト!L49)","v":""}]
[null,24,"A",{"$f":"IF(入力シート!E65=\"\",\"\",入力シート!E65)","v":""},null,null,{"$f":"IF(入力シート!F65=\"\",\"\",入力シート!F65)","v":""},{"$f":"IF(入力シート!H65=\"\",\"\",入力シート!H65)","v":""},{"$f":"IF(入力シート!G65=\"\",\"\",入力シート!G65)","v":""},{"$f":"IF(選択リスト!L50=\"\",\"\",選択リスト!L50)","v":""}]
[null,null,"B",{"$f":"IF(入力シート!E66=\"\",\"\",入力シート!E66)","v":""},null,null,{"$f":"IF(入力シート!F66=\"\",\"\",入力シート!F66)","v":""},{"$f":"IF(入力シート!H66=\"\",\"\",入力シート!H66)","v":""},{"$f":"IF(入力シート!G66=\"\",\"\",入力シート!G66)","v":""},{"$f":"IF(選択リスト!L51=\"\",\"\",選択リスト!L51)","v":""}]
[null,25,"A",{"$f":"IF(入力シート!E67=\"\",\"\",入力シート!E67)","v":""},null,null,{"$f":"IF(入力シート!F67=\"\",\"\",入力シート!F67)","v":""},{"$f":"IF(入力シート!H67=\"\",\"\",入力シート!H67)","v":""},{"$f":"IF(入力シート!G67=\"\",\"\",入力シート!G67)","v":""},{"$f":"IF(選択リスト!L52=\"\",\"\",選択リスト!L52)","v":""}]
[null,null,"B",{"$f":"IF(入力シート!E68=\"\",\"\",入力シート!E68)","v":""},null,null,{"$f":"IF(入力シート!F68=\"\",\"\",入力シート!F68)","v":""},{"$f":"IF(入力シート!H68=\"\",\"\",入力シート!H68)","v":""},{"$f":"IF(入力シート!G68=\"\",\"\",入力シート!G68)","v":""},{"$f":"IF(選択リスト!L53=\"\",\"\",選択リスト!L53)","v":""}]
[null,26,"A",{"$f":"IF(入力シート!E69=\"\",\"\",入力シート!E69)","v":""},null,null,{"$f":"IF(入力シート!F69=\"\",\"\",入力シート!F69)","v":""},{"$f":"IF(入力シート!H69=\"\",\"\",入力シート!H69)","v":""},{"$f":"IF(入力シート!G69=\"\",\"\",入力シート!G69)","v":""},{"$f":"IF(選択リスト!L54=\"\",\"\",選択リスト!L54)","v":""}]
[null,null,"B",{"$f":"IF(入力シート!E70=\"\",\"\",入力シート!E70)","v":""},null,null,{"$f":"IF(入力シート!F70=\"\",\"\",入力シート!F70)","v":""},{"$f":"IF(入力シート!H70=\"\",\"\",入力シート!H70)","v":""},{"$f":"IF(入力シート!G70=\"\",\"\",入力シート!G70)","v":""},{"$f":"IF(選択リスト!L55=\"\",\"\",選択リスト!L55)","v":""}]
[null,27,"A",{"$f":"IF(入力シート!E71=\"\",\"\",入力シート!E71)","v":""},null,null,{"$f":"IF(入力シート!F71=\"\",\"\",入力シート!F71)","v":""},{"$f":"IF(入力シート!H71=\"\",\"\",入力シート!H71)","v":""},{"$f":"IF(入力シート!G71=\"\",\"\",入力シート!G71)","v":""},{"$f":"IF(選択リスト!L56=\"\",\"\",選択リスト!L56)","v":""}]
[null,null,"B",{"$f":"IF(入力シート!E72=\"\",\"\",入力シート!E72)","v":""},null,null,{"$f":"IF(入力シート!F72=\"\",\"\",入力シート!F72)","v":""},{"$f":"IF(入力シート!H72=\"\",\"\",入力シート!H72)","v":""},{"$f":"IF(入力シート!G72=\"\",\"\",入力シート!G72)","v":""},{"$f":"IF(選択リスト!L57=\"\",\"\",選択リスト!L57)","v":""}]
[null,28,"A",{"$f":"IF(入力シート!E73=\"\",\"\",入力シート!E73)","v":""},null,null,{"$f":"IF(入力シート!F73=\"\",\"\",入力シート!F73)","v":""},{"$f":"IF(入力シート!H73=\"\",\"\",入力シート!H73)","v":""},{"$f":"IF(入力シート!G73=\"\",\"\",入力シート!G73)","v":""},{"$f":"IF(選択リスト!L58=\"\",\"\",選択リスト!L58)","v":""}]
[null,null,"B",{"$f":"IF(入力シート!E74=\"\",\"\",入力シート!E74)","v":""},null,null,{"$f":"IF(入力シート!F74=\"\",\"\",入力シート!F74)","v":""},{"$f":"IF(入力シート!H74=\"\",\"\",入力シート!H74)","v":""},{"$f":"IF(入力シート!G74=\"\",\"\",入力シート!G74)","v":""},{"$f":"IF(選択リスト!L59=\"\",\"\",選択リスト!L59)","v":""}]
[null,29,"A",{"$f":"IF(入力シート!E75=\"\",\"\",入力シート!E75)","v":""},null,null,{"$f":"IF(入力シート!F75=\"\",\"\",入力シート!F75)","v":""},{"$f":"IF(入力シート!H75=\"\",\"\",入力シート!H75)","v":""},{"$f":"IF(入力シート!G75=\"\",\"\",入力シート!G75)","v":""},{"$f":"IF(選択リスト!L60=\"\",\"\",選択リスト!L60)","v":""}]
[null,null,"B",{"$f":"IF(入力シート!E76=\"\",\"\",入力シート!E76)","v":""},null,null,{"$f":"IF(入力シート!F76=\"\",\"\",入力シート!F76)","v":""},{"$f":"IF(入力シート!H76=\"\",\"\",入力シート!H76)","v":""},{"$f":"IF(入力シート!G76=\"\",\"\",入力シート!G76)","v":""},{"$f":"IF(選択リスト!L61=\"\",\"\",選択リスト!L61)","v":""}]
[null,30,"A",{"$f":"IF(入力シート!E77=\"\",\"\",入力シート!E77)","v":""},null,null,{"$f":"IF(入力シート!F77=\"\",\"\",入力シート!F77)","v":""},{"$f":"IF(入力シート!H77=\"\",\"\",入力シート!H77)","v":""},{"$f":"IF(入力シート!G77=\"\",\"\",入力シート!G77)","v":""},{"$f":"IF(選択リスト!L62=\"\",\"\",選択リスト!L62)","v":""}]
[null,null,"B",{"$f":"IF(入力シート!E78=\"\",\"\",入力シート!E78)","v":""},null,null,{"$f":"IF(入力シート!F78=\"\",\"\",入力シート!F78)","v":""},{"$f":"IF(入力シート!H78=\"\",\"\",入力シート!H78)","v":""},{"$f":"IF(入力シート!G78=\"\",\"\",入力シート!G78)","v":""},{"$f":"IF(選択リスト!L63=\"\",\"\",選択リスト!L63)","v":""}]
[]
[null,{"$f":"B80","v":"（記入上の注意事項）"}]
[null,{"$f":"B81","v":"１．引率責任者は当該校の教員とする。"}]
[null,{"$f":"B82","v":"２．監督は校長が認める指導者とし、それが外部指導者の場合は傷害・賠償責任保険（スポーツ\n　　安全保険等）に必ず加入することを条件とする。"}]
[null,"３．外部指導者とは、非常勤講師、スポーツクラブ指導者、社会体育指導者、当該校の卒業生・\n　　保護者等で校長が認めたものとする。"]
[null,"４．監督は複数校での参加は認めない。"]
[]
[null,{"$f":"B86","v":"上記の監督は本校教職員または正式に依頼した外部指導員であり、選手は本校在学生徒であるこ\nとを認め、標記大会への参加申込をいたします。"}]
[]
[null,{"$f":"B88","v":"令和"},null,{"$f":"D88","v":""},"年",{"$f":"F88","v":"【入力して下さい】"}]
[null,{"$f":"B89","v":"【入力して下さい】"},null,null,null,null,null,{"$f":"H42","v":"高等学校長"},null,{"$f":"J89","v":"【入力して下さい】"}]
[]
[null,null,null,null,{"$f":"E91","v":"引率責任者（職名）"},null,null,{"$f":"H91","v":"【入力して下さい】"},null,{"$f":"J91","v":"【入力して下さい】"}]

{"sheet":"IDカード","index":3,"n_rows":25,"n_cols":15,"rows_kept":25,"cut":false,"hidden":false,"merged":[[49,5,49,7],[49,14,49,16],[38,5,38,7],[38,14,38,16],[46,3,46,7],[46,12,46,16],[48,5,48,8],[48,14,48,17],[27,5,27,7],[27,14,27,16],[35,3,35,7],[35,12,35,16],[37,5,37,8],[37,14,37,17],[20,5,22,8],[20,14,22,17],[26,5,26,8],[26,14,26,17],[24,3,24,9],[24,12,24,18],[16,5,16,8],[16,14,16,17],[18,5,19,7],[18,14,19,16],[15,5,15,9],[15,14,15,18],[6,5,7,7],[6,14,7,16],[8,5,10,8],[8,14,10,17],[12,3,12,9],[12,12,12,18],[2,3,2,7],[2,12,2,16],[4,5,4,8],[4,14,4,17],[3,5,3,9],[3,14,3,18]]}
[]
[]
[]
[null,null,null,null,null,"ベンチ入り指導者ＩＤ",null,null,null,null,null,null,null,null,{"$f":"F4","v":"ベンチ入り指導者ＩＤ"}]
[null,null,null,{"$f":"IF(入力シート!E6=\"\",\"\",入力シート!E6&\"地区\")","v":""},null,{"$f":"IF(入力シート!E7=\"\",\"\",入力シート!E7&\"高校\")","v":""},null,null,null,null,null,null,{"$f":"IF(D5=\"\",\"\",D5)","v":""},null,{"$f":"IF(F5=\"\",\"\",F5)","v":""}]
[]
[null,null,null,null,{"$f":"_xlfn.IFS(入力シート!F9=\"\",\"\",入力シート!F9=\"教職員\",1,入力シート!F9=\"外部指導者\",2,入力シート!F9=\"部活動指導員\",3)","v":{"$error":"#N/A"}},{"$f":"IF(入力シート!F9=\"\",\"\",入力シート!F9)","v":"【選択して下さい】"},null,null,null,null,null,null,null,{"$f":"_xlfn.IFS(入力シート!F10=\"\",\"\",入力シート!F10=\"教職員\",1,入力シート!F10=\"外部指導者\",2,入力シート!F10=\"部活動指導員\",3)","v":{"$error":"#N/A"}},{"$f":"IF(入力シート!F10=\"\",\"\",入力シート!F10)","v":"【選択して下さい】"}]
[]
[null,null,null,null,null,{"$f":"IF(入力シート!E9=\"\",\"\",入力シート!E9)","v":""},null,null,null,null,null,null,null,null,{"$f":"IF(入力シート!E10=\"\",\"\",入力シート!E10)","v":""}]
[]
[]
[]
[null,null,null,"  ベンチ入りする際は必ず首から提げてください",null,null,null,null,null,null,null,null,"  ベンチ入りする際は必ず首から提げてください"]
[]
[]
[null,null,null,null,null,{"$f":"F4","v":"ベンチ入り指導者ＩＤ"},null,null,null,null,null,null,null,null,{"$f":"F4","v":"ベンチ入り指導者ＩＤ"}]
[null,null,null,{"$f":"IF(D5=\"\",\"\",D5)","v":""},null,{"$f":"IF(F5=\"\",\"\",F5)","v":""},null,null,null,null,null,null,{"$f":"IF(D5=\"\",\"\",D5)","v":""},null,{"$f":"IF(F5=\"\",\"\",F5)","v":""}]
[]
[null,null,null,null,{"$f":"_xlfn.IFS(入力シート!F11=\"\",\"\",入力シート!F11=\"教職員\",1,入力シート!F11=\"外部指導者\",2,入力シート!F11=\"部活動指導員\",3)","v":{"$error":"#N/A"}},{"$f":"IF(入力シート!F11=\"\",\"\",入力シート!F11)","v":"【選択して下さい】"},null,null,null,null,null,null,null,{"$f":"_xlfn.IFS(入力シート!F12=\"\",\"\",入力シート!F12=\"教職員\",1,入力シート!F12=\"外部指導者\",2,入力シート!F12=\"部活動指導員\",3)","v":{"$error":"#N/A"}},{"$f":"IF(入力シート!F12=\"\",\"\",入力シート!F12)","v":"【選択して下さい】"}]
[]
[null,null,null,null,null,{"$f":"IF(入力シート!E11=\"\",\"\",入力シート!E11)","v":""},null,null,null,null,null,null,null,null,{"$f":"IF(入力シート!E12=\"\",\"\",入力シート!E12)","v":""}]
[]
[]
[]
[null,null,null,"  ベンチ入りする際は必ず首から提げてください",null,null,null,null,null,null,null,null,"   ベンチ入りする際は必ず首から提げてください"]

{"sheet":"選択リスト","index":4,"n_rows":63,"n_cols":12,"rows_kept":63,"cut":false,"hidden":false,"merged":[[59,8,60,8],[61,8,62,8],[49,8,50,8],[51,8,52,8],[53,8,54,8],[55,8,56,8],[57,8,58,8],[39,8,40,8],[41,8,42,8],[43,8,44,8],[45,8,46,8],[47,8,48,8],[29,8,30,8],[31,8,32,8],[33,8,34,8],[35,8,36,8],[37,8,38,8],[19,8,20,8],[21,8,22,8],[23,8,24,8],[25,8,26,8],[27,8,28,8],[9,8,10,8],[11,8,12,8],[13,8,14,8],[15,8,16,8],[17,8,18,8],[2,9,2,11],[3,8,4,8],[5,8,6,8],[7,8,8,8],[0,2,0,11]]}
[null,null,"選択リスト"]
[]
[null,"大会","種別","地区","監督職","学年","都道府県","学校長","・","中学校"]
[null,"関東予選地区大会","男　子",1,"教職員",1,"千葉県",{"$f":"(入力シート!F13&\"　　印\")","v":"　　印"},1,{"$f":"IF(入力シート!I19=\"\",\"\",IF(入力シート!I19=\"千葉県\",\"\",入力シート!I19))","v":""},{"$f":"IF(J4=\"\",\"\",CONCATENATE(J4,$I$3))","v":""},{"$f":"CONCATENATE(K4,入力シート!J19,入力シート!K19)","v":""}]
[null,"関東予選県大会","女　子",2,"外部指導者",2,"東京都","引率責任者",null,{"$f":"IF(入力シート!I20=\"\",\"\",IF(入力シート!I20=\"千葉県\",\"\",入力シート!I20))","v":""},{"$f":"IF(J5=\"\",\"\",CONCATENATE(J5,$I$3))","v":""},{"$f":"CONCATENATE(K5,入力シート!J20,入力シート!K20)","v":""}]
[null,"総体","【選択して下さい】",3,"部活動指導員",3,"茨城県",{"$f":"(入力シート!F14&\"　　印\")","v":"　　印"},2,{"$f":"IF(入力シート!I21=\"\",\"\",IF(入力シート!I21=\"千葉県\",\"\",入力シート!I21))","v":""},"",{"$f":"CONCATENATE(K6,入力シート!J21,入力シート!K21)","v":""}]
[null,"新人地区予選",null,4,"【選択して下さい】",null,"神奈川県","職名",null,{"$f":"IF(入力シート!I22=\"\",\"\",IF(入力シート!I22=\"千葉県\",\"\",入力シート!I22))","v":""},"",{"$f":"CONCATENATE(K7,入力シート!J22,入力シート!K22)","v":""}]
[null,"新人県大会",null,5,null,null,"群馬県",{"$f":"(\"( \"&入力シート!F15&\" )\")","v":"(  )"},3,{"$f":"IF(入力シート!I23=\"\",\"\",IF(入力シート!I23=\"千葉県\",\"\",入力シート!I23))","v":""},"",{"$f":"CONCATENATE(K8,入力シート!J23,入力シート!K23)","v":""}]
[null,"【選択して下さい】",null,6,null,null,"栃木県",null,null,{"$f":"IF(入力シート!I24=\"\",\"\",IF(入力シート!I24=\"千葉県\",\"\",入力シート!I24))","v":""},"",{"$f":"CONCATENATE(K9,入力シート!J24,入力シート!K24)","v":""}]
[null,null,null,7,null,null,"山梨県",null,4,{"$f":"IF(入力シート!I25=\"\",\"\",IF(入力シート!I25=\"千葉県\",\"\",入力シート!I25))","v":""},"",{"$f":"CONCATENATE(K10,入力シート!J25,入力シート!K25)","v":""}]
[null,null,null,8,null,null,"埼玉県",null,null,{"$f":"IF(入力シート!I26=\"\",\"\",IF(入力シート!I26=\"千葉県\",\"\",入力シート!I26))","v":""},"",{"$f":"CONCATENATE(K11,入力シート!J26,入力シート!K26)","v":""}]
[null,null,null,null,null,null,"北海道",null,5,{"$f":"IF(入力シート!I27=\"\",\"\",IF(入力シート!I27=\"千葉県\",\"\",入力シート!I27))","v":""},"",{"$f":"CONCATENATE(K12,入力シート!J27,入力シート!K27)","v":""}]
[null,null,null,null,null,null,"青森県",null,null,{"$f":"IF(入力シート!I28=\"\",\"\",IF(入力シート!I28=\"千葉県\",\"\",入力シート!I28))","v":""},"",{"$f":"CONCATENATE(K13,入力シート!J28,入力シート!K28)","v":""}]
[null,null,null,"【選択して下さい】",null,null,"岩手県",null,6,{"$f":"IF(入力シート!I29=\"\",\"\",IF(入力シート!I29=\"千葉県\",\"\",入力シート!I29))","v":""},"",{"$f":"CONCATENATE(K14,入力シート!J29,入力シート!K29)","v":""}]
[null,null,null,null,null,null,"宮城県",null,null,{"$f":"IF(入力シート!I30=\"\",\"\",IF(入力シート!I30=\"千葉県\",\"\",入力シート!I30))","v":""},"",{"$f":"CONCATENATE(K15,入力シート!J30,入力シート!K30)","v":""}]
[null,null,null,null,null,null,"秋田県",null,7,{"$f":"IF(入力シート!I31=\"\",\"\",IF(入力シート!I31=\"千葉県\",\"\",入力シート!I31))","v":""},"",{"$f":"CONCATENATE(K16,入力シート!J31,入力シート!K31)","v":""}]
[null,null,null,null,null,null,"山形県",null,null,{"$f":"IF(入力シート!I32=\"\",\"\",IF(入力シート!I32=\"千葉県\",\"\",入力シート!I32))","v":""},"",{"$f":"CONCATENATE(K17,入力シート!J32,入力シート!K32)","v":""}]
[null,null,null,null,null,null,"福島県",null,8,{"$f":"IF(入力シート!I33=\"\",\"\",IF(入力シート!I33=\"千葉県\",\"\",入力シート!I33))","v":""},"",{"$f":"CONCATENATE(K18,入力シート!J33,入力シート!K33)","v":""}]
[null,null,null,null,null,null,"新潟県",null,null,{"$f":"IF(入力シート!I34=\"\",\"\",IF(入力シート!I34=\"千葉県\",\"\",入力シート!I34))","v":""},"",{"$f":"CONCATENATE(K19,入力シート!J34,入力シート!K34)","v":""}]
[null,null,null,null,null,null,"富山県",null,9,{"$f":"IF(入力シート!I35=\"\",\"\",IF(入力シート!I35=\"千葉県\",\"\",入力シート!I35))","v":""},"",{"$f":"CONCATENATE(K20,入力シート!J35,入力シート!K35)","v":""}]
[null,null,null,null,null,null,"石川県",null,null,{"$f":"IF(入力シート!I36=\"\",\"\",IF(入力シート!I36=\"千葉県\",\"\",入力シート!I36))","v":""},"",{"$f":"CONCATENATE(K21,入力シート!J36,入力シート!K36)","v":""}]
[null,null,null,null,null,null,"福井県",null,10,{"$f":"IF(入力シート!I37=\"\",\"\",IF(入力シート!I37=\"千葉県\",\"\",入力シート!I37))","v":""},"",{"$f":"CONCATENATE(K22,入力シート!J37,入力シート!K37)","v":""}]
[null,null,null,null,null,null,"長野県",null,null,{"$f":"IF(入力シート!I38=\"\",\"\",IF(入力シート!I38=\"千葉県\",\"\",入力シート!I38))","v":""},"",{"$f":"CONCATENATE(K23,入力シート!J38,入力シート!K38)","v":""}]
[null,null,null,null,null,null,"岐阜県",null,11,{"$f":"IF(入力シート!I39=\"\",\"\",IF(入力シート!I39=\"千葉県\",\"\",入力シート!I39))","v":""},"",{"$f":"CONCATENATE(K24,入力シート!J39,入力シート!K39)","v":""}]
[null,null,null,null,null,null,"静岡県",null,null,{"$f":"IF(入力シート!I40=\"\",\"\",IF(入力シート!I40=\"千葉県\",\"\",入力シート!I40))","v":""},"",{"$f":"CONCATENATE(K25,入力シート!J40,入力シート!K40)","v":""}]
[null,null,null,null,null,null,"愛知県",null,12,{"$f":"IF(入力シート!I41=\"\",\"\",IF(入力シート!I41=\"千葉県\",\"\",入力シート!I41))","v":""},"",{"$f":"CONCATENATE(K26,入力シート!J41,入力シート!K41)","v":""}]
[null,null,null,null,null,null,"三重県",null,null,{"$f":"IF(入力シート!I42=\"\",\"\",IF(入力シート!I42=\"千葉県\",\"\",入力シート!I42))","v":""},"",{"$f":"CONCATENATE(K27,入力シート!J42,入力シート!K42)","v":""}]
[null,null,null,null,null,null,"滋賀県",null,13,{"$f":"IF(入力シート!I43=\"\",\"\",IF(入力シート!I43=\"千葉県\",\"\",入力シート!I43))","v":""},"",{"$f":"CONCATENATE(K28,入力シート!J43,入力シート!K43)","v":""}]
[null,null,null,null,null,null,"京都府",null,null,{"$f":"IF(入力シート!I44=\"\",\"\",IF(入力シート!I44=\"千葉県\",\"\",入力シート!I44))","v":""},"",{"$f":"CONCATENATE(K29,入力シート!J44,入力シート!K44)","v":""}]
[null,null,null,null,null,null,"大阪府",null,14,{"$f":"IF(入力シート!I45=\"\",\"\",IF(入力シート!I45=\"千葉県\",\"\",入力シート!I45))","v":""},"",{"$f":"CONCATENATE(K30,入力シート!J45,入力シート!K45)","v":""}]
[null,null,null,null,null,null,"兵庫県",null,null,{"$f":"IF(入力シート!I46=\"\",\"\",IF(入力シート!I46=\"千葉県\",\"\",入力シート!I46))","v":""},"",{"$f":"CONCATENATE(K31,入力シート!J46,入力シート!K46)","v":""}]
[null,null,null,null,null,null,"奈良県",null,15,{"$f":"IF(入力シート!I47=\"\",\"\",IF(入力シート!I47=\"千葉県\",\"\",入力シート!I47))","v":""},"",{"$f":"CONCATENATE(K32,入力シート!J47,入力シート!K47)","v":""}]
[null,null,null,null,null,null,"和歌山県",null,null,{"$f":"IF(入力シート!I48=\"\",\"\",IF(入力シート!I48=\"千葉県\",\"\",入力シート!I48))","v":""},"",{"$f":"CONCATENATE(K33,入力シート!J48,入力シート!K48)","v":""}]
[null,null,null,null,null,null,"鳥取県",null,16,{"$f":"IF(入力シート!I49=\"\",\"\",IF(入力シート!I49=\"千葉県\",\"\",入力シート!I49))","v":""},"",{"$f":"CONCATENATE(K34,入力シート!J49,入力シート!K49)","v":""}]
[null,null,null,null,null,null,"島根県",null,null,{"$f":"IF(入力シート!I50=\"\",\"\",IF(入力シート!I50=\"千葉県\",\"\",入力シート!I50))","v":""},"",{"$f":"CONCATENATE(K35,入力シート!J50,入力シート!K50)","v":""}]
[null,null,null,null,null,null,"岡山県",null,17,{"$f":"IF(入力シート!I51=\"\",\"\",IF(入力シート!I51=\"千葉県\",\"\",入力シート!I51))","v":""},"",{"$f":"CONCATENATE(K36,入力シート!J51,入力シート!K51)","v":""}]
[null,null,null,null,null,null,"広島県",null,null,{"$f":"IF(入力シート!I52=\"\",\"\",IF(入力シート!I52=\"千葉県\",\"\",入力シート!I52))","v":""},"",{"$f":"CONCATENATE(K37,入力シート!J52,入力シート!K52)","v":""}]
[null,null,null,null,null,null,"山口県",null,18,{"$f":"IF(入力シート!I53=\"\",\"\",IF(入力シート!I53=\"千葉県\",\"\",入力シート!I53))","v":""},"",{"$f":"CONCATENATE(K38,入力シート!J53,入力シート!K53)","v":""}]
[null,null,null,null,null,null,"徳島県",null,null,{"$f":"IF(入力シート!I54=\"\",\"\",IF(入力シート!I54=\"千葉県\",\"\",入力シート!I54))","v":""},"",{"$f":"CONCATENATE(K39,入力シート!J54,入力シート!K54)","v":""}]
[null,null,null,null,null,null,"香川県",null,19,{"$f":"IF(入力シート!I55=\"\",\"\",IF(入力シート!I55=\"千葉県\",\"\",入力シート!I55))","v":""},"",{"$f":"CONCATENATE(K40,入力シート!J55,入力シート!K55)","v":""}]
[null,null,null,null,null,null,"愛媛県",null,null,{"$f":"IF(入力シート!I56=\"\",\"\",IF(入力シート!I56=\"千葉県\",\"\",入力シート!I56))","v":""},"",{"$f":"CONCATENATE(K41,入力シート!J56,入力シート!K56)","v":""}]
[null,null,null,null,null,null,"高知県",null,20,{"$f":"IF(入力シート!I57=\"\",\"\",IF(入力シート!I57=\"千葉県\",\"\",入力シート!I57))","v":""},"",{"$f":"CONCATENATE(K42,入力シート!J57,入力シート!K57)","v":""}]
[null,null,null,null,null,null,"福岡県",null,null,{"$f":"IF(入力シート!I58=\"\",\"\",IF(入力シート!I58=\"千葉県\",\"\",入力シート!I58))","v":""},"",{"$f":"CONCATENATE(K43,入力シート!J58,入力シート!K58)","v":""}]
[null,null,null,null,null,null,"佐賀県",null,21,{"$f":"IF(入力シート!I59=\"\",\"\",IF(入力シート!I59=\"千葉県\",\"\",入力シート!I59))","v":""},"",{"$f":"CONCATENATE(K44,入力シート!J59,入力シート!K59)","v":""}]
[null,null,null,null,null,null,"長崎県",null,null,{"$f":"IF(入力シート!I60=\"\",\"\",IF(入力シート!I60=\"千葉県\",\"\",入力シート!I60))","v":""},"",{"$f":"CONCATENATE(K45,入力シート!J60,入力シート!K60)","v":""}]
[null,null,null,null,null,null,"熊本県",null,22,{"$f":"IF(入力シート!I61=\"\",\"\",IF(入力シート!I61=\"千葉県\",\"\",入力シート!I61))","v":""},"",{"$f":"CONCATENATE(K46,入力シート!J61,入力シート!K61)","v":""}]
[null,null,null,null,null,null,"大分県",null,null,{"$f":"IF(入力シート!I62=\"\",\"\",IF(入力シート!I62=\"千葉県\",\"\",入力シート!I62))","v":""},"",{"$f":"CONCATENATE(K47,入力シート!J62,入力シート!K62)","v":""}]
[null,null,null,null,null,null,"宮崎県",null,23,{"$f":"IF(入力シート!I63=\"\",\"\",IF(入力シート!I63=\"千葉県\",\"\",入力シート!I63))","v":""},"",{"$f":"CONCATENATE(K48,入力シート!J63,入力シート!K63)","v":""}]
[null,null,null,null,null,null,"鹿児島県",null,null,{"$f":"IF(入力シート!I64=\"\",\"\",IF(入力シート!I64=\"千葉県\",\"\",入力シート!I64))","v":""},"",{"$f":"CONCATENATE(K49,入力シート!J64,入力シート!K64)","v":""}]
[null,null,null,null,null,null,"沖縄県",null,24,{"$f":"IF(入力シート!I65=\"\",\"\",IF(入力シート!I65=\"千葉県\",\"\",入力シート!I65))","v":""},"",{"$f":"CONCATENATE(K50,入力シート!J65,入力シート!K65)","v":""}]
[null,null,null,null,null,null,null,null,null,{"$f":"IF(入力シート!I66=\"\",\"\",IF(入力シート!I66=\"千葉県\",\"\",入力シート!I66))","v":""},"",{"$f":"CONCATENATE(K51,入力シート!J66,入力シート!K66)","v":""}]
[null,null,null,null,null,null,null,null,25,{"$f":"IF(入力シート!I67=\"\",\"\",IF(入力シート!I67=\"千葉県\",\"\",入力シート!I67))","v":""},"",{"$f":"CONCATENATE(K52,入力シート!J67,入力シート!K67)","v":""}]
[null,null,null,null,null,null,null,null,null,{"$f":"IF(入力シート!I68=\"\",\"\",IF(入力シート!I68=\"千葉県\",\"\",入力シート!I68))","v":""},"",{"$f":"CONCATENATE(K53,入力シート!J68,入力シート!K68)","v":""}]
[null,null,null,null,null,null,null,null,26,{"$f":"IF(入力シート!I69=\"\",\"\",IF(入力シート!I69=\"千葉県\",\"\",入力シート!I69))","v":""},"",{"$f":"CONCATENATE(K54,入力シート!J69,入力シート!K69)","v":""}]
[null,null,null,null,null,null,null,null,null,{"$f":"IF(入力シート!I70=\"\",\"\",IF(入力シート!I70=\"千葉県\",\"\",入力シート!I70))","v":""},"",{"$f":"CONCATENATE(K55,入力シート!J70,入力シート!K70)","v":""}]
[null,null,null,null,null,null,null,null,27,{"$f":"IF(入力シート!I71=\"\",\"\",IF(入力シート!I71=\"千葉県\",\"\",入力シート!I71))","v":""},"",{"$f":"CONCATENATE(K56,入力シート!J71,入力シート!K71)","v":""}]
[null,null,null,null,null,null,null,null,null,{"$f":"IF(入力シート!I72=\"\",\"\",IF(入力シート!I72=\"千葉県\",\"\",入力シート!I72))","v":""},"",{"$f":"CONCATENATE(K57,入力シート!J72,入力シート!K72)","v":""}]
[null,null,null,null,null,null,null,null,28,{"$f":"IF(入力シート!I73=\"\",\"\",IF(入力シート!I73=\"千葉県\",\"\",入力シート!I73))","v":""},"",{"$f":"CONCATENATE(K58,入力シート!J73,入力シート!K73)","v":""}]
[null,null,null,null,null,null,null,null,null,{"$f":"IF(入力シート!I74=\"\",\"\",IF(入力シート!I74=\"千葉県\",\"\",入力シート!I74))","v":""},"",{"$f":"CONCATENATE(K59,入力シート!J74,入力シート!K74)","v":""}]
[null,null,null,null,null,null,null,null,29,{"$f":"IF(入力シート!I75=\"\",\"\",IF(入力シート!I75=\"千葉県\",\"\",入力シート!I75))","v":""},"",{"$f":"CONCATENATE(K60,入力シート!J75,入力シート!K75)","v":""}]
[null,null,null,null,null,null,null,null,null,{"$f":"IF(入力シート!I76=\"\",\"\",IF(入力シート!I76=\"千葉県\",\"\",入力シート!I76))","v":""},"",{"$f":"CONCATENATE(K61,入力シート!J76,入力シート!K76)","v":""}]
[null,null,null,null,null,null,null,null,30,{"$f":"IF(入力シート!I77=\"\",\"\",IF(入力シート!I77=\"千葉県\",\"\",入力シート!I77))","v":""},"",{"$f":"CONCATENATE(K62,入力シート!J77,入力シート!K77)","v":""}]
[null,null,null,null,null,null,null,null,null,{"$f":"IF(入力シート!I78=\"\",\"\",IF(入力シート!I78=\"千葉県\",\"\",入力シート!I78))","v":""},"",{"$f":"CONCATENATE(K63,入力シート!J78,入力シート!K78)","v":""}]

{"sheet":"手書き用","index":5,"n_rows":139,"n_cols":15,"rows_kept":139,"cut":false,"hidden":false,"merged":[[5,1,5,2],[5,3,5,8],[6,1,6,6],[6,7,6,9],[7,1,7,2],[7,3,7,6],[7,7,7,9],[1,1,1,3],[1,5,1,9],[2,1,2,9],[3,1,3,7],[4,1,4,2],[4,3,4,5],[4,6,4,7],[10,1,10,2],[10,3,10,6],[10,7,10,9],[11,1,11,2],[11,3,11,5],[12,1,13,1],[12,3,12,5],[13,3,13,5],[8,1,8,2],[8,3,8,6],[8,7,8,9],[9,1,9,2],[9,3,9,6],[9,7,9,9],[18,1,19,1],[18,3,18,5],[19,3,19,5],[20,1,21,1],[20,3,20,5],[21,3,21,5],[14,1,15,1],[14,3,14,5],[15,3,15,5],[16,1,17,1],[16,3,16,5],[17,3,17,5],[26,1,27,1],[26,3,26,5],[27,3,27,5],[28,1,29,1],[28,3,28,5],[29,3,29,5],[22,1,23,1],[22,3,22,5],[23,3,23,5],[24,1,25,1],[24,3,24,5],[25,3,25,5],[44,6,44,7],[36,1,36,9],[37,1,37,9],[39,1,39,9],[41,1,41,5],[42,6,42,7],[30,1,31,1],[30,3,30,5],[31,3,31,5],[33,1,33,9],[34,1,34,9],[35,1,35,9],[51,1,51,2],[51,3,51,5],[51,6,51,7],[52,1,52,2],[52,3,52,8],[53,1,53,6],[53,7,53,9],[48,1,48,3],[48,5,48,9],[49,1,49,9],[50,1,50,7],[56,7,56,9],[57,1,57,2],[57,3,57,6],[57,7,57,9],[54,1,54,2],[54,3,54,6],[54,7,54,9],[55,1,55,2],[55,3,55,6],[55,7,55,9],[58,1,58,2],[58,3,58,5],[59,1,60,1],[59,3,59,5],[60,3,60,5],[61,1,62,1],[61,3,61,5],[62,3,62,5],[56,1,56,2],[56,3,56,6],[67,1,68,1],[67,3,67,5],[68,3,68,5],[69,1,70,1],[69,3,69,5],[70,3,70,5],[63,1,64,1],[63,3,63,5],[64,3,64,5],[65,1,66,1],[65,3,65,5],[66,3,66,5],[75,1,76,1],[75,3,75,5],[76,3,76,5],[77,1,78,1],[77,3,77,5],[78,3,78,5],[71,1,72,1],[71,3,71,5],[72,3,72,5],[73,1,74,1],[73,3,73,5],[74,3,74,5],[80,1,80,9],[81,1,81,9],[82,1,82,9],[83,1,83,9],[84,1,84,9],[86,1,86,9],[88,1,88,5],[89,6,89,7],[91,6,91,7],[99,1,99,2],[99,3,99,8],[100,1,100,6],[100,7,100,9],[101,1,101,2],[101,3,101,6],[101,7,101,9],[95,1,95,3],[95,5,95,9],[96,1,96,9],[97,1,97,7],[98,1,98,2],[98,3,98,5],[98,6,98,7],[104,1,104,2],[104,3,104,6],[104,7,104,9],[105,1,105,2],[105,3,105,5],[106,1,107,1],[106,3,106,5],[107,3,107,5],[102,1,102,2],[102,3,102,6],[102,7,102,9],[103,1,103,2],[103,3,103,6],[103,7,103,9],[112,1,113,1],[112,3,112,5],[113,3,113,5],[114,1,115,1],[114,3,114,5],[115,3,115,5],[108,1,109,1],[108,3,108,5],[109,3,109,5],[110,1,111,1],[110,3,110,5],[111,3,111,5],[135,1,135,5],[136,6,136,7],[138,6,138,7],[130,1,130,9],[131,1,131,9],[133,1,133,9],[124,1,125,1],[124,3,124,5],[125,3,125,5],[127,1,127,9],[128,1,128,9],[129,1,129,9],[120,1,121,1],[120,3,120,5],[121,3,121,5],[122,1,123,1],[122,3,122,5],[123,3,123,5],[116,1,117,1],[116,3,116,5],[117,3,117,5],[118,1,119,1],[118,3,118,5],[119,3,119,5]]}
[]
[null,{"$f":"入力シート!G3","v":"令和"},null,null,{"$f":"入力シート!H3","v":""},{"$f":"_xlfn.IFS(M5=\"1\",\"\",M5=\"2\",O3,M5=\"3\",O5,M5=\"4\",O7,M5=\"5\",O9,M5=\"6\",O11)","v":{"$error":"#N/A"}}]
[null,{"$f":"_xlfn.IFS(M5=\"1\",\"\",M5=\"2\",O4,M5=\"3\",O6,M5=\"4\",O8,M5=\"5\",O10,M5=\"6\",O12)","v":{"$error":"#N/A"}},null,null,null,null,null,null,null,null,null,null,null,null,"年度関東高等学校ソフトテニス大会"]
[null,"千葉県高等学校体育連盟会長　様",null,null,null,null,null,null,null,"その①",null,null,null,null,"千葉県予選会地区大会参加申し込み書"]
[null,"種 別",null," 男子 ・ 女子",null,null,"個　　人",null,"地区",{"$f":"IF(入力シート!E6=\"\",\"\",入力シート!E6)","v":""},null,null,{"$f":"入力シート!O4","v":{"$error":"#N/A"}},null,"年度関東高等学校ソフトテニス大会"]
[null,"学校名",null,null,null,null,null,null,null,{"$f":"IF(入力シート!G7=\"\",\"\",入力シート!G7)","v":"高等学校"},null,null,null,null,"千葉県予選会参加申し込み書"]
[null,"ベンチ入り指導者",null,null,null,null,null,"氏　　　名",null,null,null,null,null,null,"年度千葉県高等学校総合体育大会"]
[null,1,null,"教職員・外部指導者・部活動指導員",null,null,null,{"$f":"IF(入力シート!E9=\"\",\"\",入力シート!E9)","v":""},null,null,null,null,null,null,"ソフトテニス大会参加申し込み書"]
[null,2,null,"教職員・外部指導者・部活動指導員",null,null,null,{"$f":"IF(入力シート!E10=\"\",\"\",入力シート!E10)","v":""},null,null,null,null,null,null,"年度千葉県高等学校新人体育大会"]
[null,3,null,"教職員・外部指導者・部活動指導員",null,null,null,{"$f":"IF(入力シート!E11=\"\",\"\",入力シート!E11)","v":""},null,null,null,null,null,null,"ソフトテニス地区大会参加申し込み書"]
[null,4,null,"教職員・外部指導者・部活動指導員",null,null,null,{"$f":"IF(入力シート!E12=\"\",\"\",入力シート!E12)","v":""},null,null,null,null,null,null,"年度千葉県高等学校新人体育大会"]
[null,"ペア",null,"氏　　名",null,null,"ふりがな","学年","生年月日","出身中学校(○○市立△△)",null,null,null,null,"ソフトテニス大会参加申し込み書"]
[null,1,"A",{"$f":"IF(入力シート!E19=\"\",\"\",入力シート!E19)","v":""},null,null,{"$f":"IF(入力シート!F19=\"\",\"\",入力シート!F19)","v":""},{"$f":"IF(入力シート!H19=\"\",\"\",入力シート!H19)","v":""},{"$f":"IF(入力シート!G19=\"\",\"\",入力シート!G19)","v":""},{"$f":"IF(選択リスト!L4=\"\",\"\",選択リスト!L4)","v":""}]
[null,null,"B",{"$f":"IF(入力シート!E20=\"\",\"\",入力シート!E20)","v":""},null,null,{"$f":"IF(入力シート!F20=\"\",\"\",入力シート!F20)","v":""},{"$f":"IF(入力シート!H20=\"\",\"\",入力シート!H20)","v":""},{"$f":"IF(入力シート!G20=\"\",\"\",入力シート!G20)","v":""},{"$f":"IF(選択リスト!L5=\"\",\"\",選択リスト!L5)","v":""}]
[null,2,"A",{"$f":"IF(入力シート!E21=\"\",\"\",入力シート!E21)","v":""},null,null,{"$f":"IF(入力シート!F21=\"\",\"\",入力シート!F21)","v":""},{"$f":"IF(入力シート!H21=\"\",\"\",入力シート!H21)","v":""},{"$f":"IF(入力シート!G21=\"\",\"\",入力シート!G21)","v":""},{"$f":"IF(選択リスト!L6=\"\",\"\",選択リスト!L6)","v":""}]
[null,null,"B",{"$f":"IF(入力シート!E22=\"\",\"\",入力シート!E22)","v":""},null,null,{"$f":"IF(入力シート!F22=\"\",\"\",入力シート!F22)","v":""},{"$f":"IF(入力シート!H22=\"\",\"\",入力シート!H22)","v":""},{"$f":"IF(入力シート!G22=\"\",\"\",入力シート!G22)","v":""},{"$f":"IF(選択リスト!L7=\"\",\"\",選択リスト!L7)","v":""}]
[null,3,"A",{"$f":"IF(入力シート!E23=\"\",\"\",入力シート!E23)","v":""},null,null,{"$f":"IF(入力シート!F23=\"\",\"\",入力シート!F23)","v":""},{"$f":"IF(入力シート!H23=\"\",\"\",入力シート!H23)","v":""},{"$f":"IF(入力シート!G23=\"\",\"\",入力シート!G23)","v":""},{"$f":"IF(選択リスト!L8=\"\",\"\",選択リスト!L8)","v":""}]
[null,null,"B",{"$f":"IF(入力シート!E24=\"\",\"\",入力シート!E24)","v":""},null,null,{"$f":"IF(入力シート!F24=\"\",\"\",入力シート!F24)","v":""},{"$f":"IF(入力シート!H24=\"\",\"\",入力シート!H24)","v":""},{"$f":"IF(入力シート!G24=\"\",\"\",入力シート!G24)","v":""},{"$f":"IF(選択リスト!L9=\"\",\"\",選択リスト!L9)","v":""}]
[null,4,"A",{"$f":"IF(入力シート!E25=\"\",\"\",入力シート!E25)","v":""},null,null,{"$f":"IF(入力シート!F25=\"\",\"\",入力シート!F25)","v":""},{"$f":"IF(入力シート!H25=\"\",\"\",入力シート!H25)","v":""},{"$f":"IF(入力シート!G25=\"\",\"\",入力シート!G25)","v":""},{"$f":"IF(選択リスト!L10=\"\",\"\",選択リスト!L10)","v":""}]
[null,null,"B",{"$f":"IF(入力シート!E26=\"\",\"\",入力シート!E26)","v":""},null,null,{"$f":"IF(入力シート!F26=\"\",\"\",入力シート!F26)","v":""},{"$f":"IF(入力シート!H26=\"\",\"\",入力シート!H26)","v":""},{"$f":"IF(入力シート!G26=\"\",\"\",入力シート!G26)","v":""},{"$f":"IF(選択リスト!L11=\"\",\"\",選択リスト!L11)","v":""}]
[null,5,"A",{"$f":"IF(入力シート!E27=\"\",\"\",入力シート!E27)","v":""},null,null,{"$f":"IF(入力シート!F27=\"\",\"\",入力シート!F27)","v":""},{"$f":"IF(入力シート!H27=\"\",\"\",入力シート!H27)","v":""},{"$f":"IF(入力シート!G27=\"\",\"\",入力シート!G27)","v":""},{"$f":"IF(選択リスト!L12=\"\",\"\",選択リスト!L12)","v":""}]
[null,null,"B",{"$f":"IF(入力シート!E28=\"\",\"\",入力シート!E28)","v":""},null,null,{"$f":"IF(入力シート!F28=\"\",\"\",入力シート!F28)","v":""},{"$f":"IF(入力シート!H28=\"\",\"\",入力シート!H28)","v":""},{"$f":"IF(入力シート!G28=\"\",\"\",入力シート!G28)","v":""},{"$f":"IF(選択リスト!L13=\"\",\"\",選択リスト!L13)","v":""}]
[null,6,"A",{"$f":"IF(入力シート!E29=\"\",\"\",入力シート!E29)","v":""},null,null,{"$f":"IF(入力シート!F29=\"\",\"\",入力シート!F29)","v":""},{"$f":"IF(入力シート!H29=\"\",\"\",入力シート!H29)","v":""},{"$f":"IF(入力シート!G29=\"\",\"\",入力シート!G29)","v":""},{"$f":"IF(選択リスト!L14=\"\",\"\",選択リスト!L14)","v":""}]
[null,null,"B",{"$f":"IF(入力シート!E30=\"\",\"\",入力シート!E30)","v":""},null,null,{"$f":"IF(入力シート!F30=\"\",\"\",入力シート!F30)","v":""},{"$f":"IF(入力シート!H30=\"\",\"\",入力シート!H30)","v":""},{"$f":"IF(入力シート!G30=\"\",\"\",入力シート!G30)","v":""},{"$f":"IF(選択リスト!L15=\"\",\"\",選択リスト!L15)","v":""}]
[null,7,"A",{"$f":"IF(入力シート!E31=\"\",\"\",入力シート!E31)","v":""},null,null,{"$f":"IF(入力シート!F31=\"\",\"\",入力シート!F31)","v":""},{"$f":"IF(入力シート!H31=\"\",\"\",入力シート!H31)","v":""},{"$f":"IF(入力シート!G31=\"\",\"\",入力シート!G31)","v":""},{"$f":"IF(選択リスト!L16=\"\",\"\",選択リスト!L16)","v":""}]
[null,null,"B",{"$f":"IF(入力シート!E32=\"\",\"\",入力シート!E32)","v":""},null,null,{"$f":"IF(入力シート!F32=\"\",\"\",入力シート!F32)","v":""},{"$f":"IF(入力シート!H32=\"\",\"\",入力シート!H32)","v":""},{"$f":"IF(入力シート!G32=\"\",\"\",入力シート!G32)","v":""},{"$f":"IF(選択リスト!L17=\"\",\"\",選択リスト!L17)","v":""}]
[null,8,"A",{"$f":"IF(入力シート!E33=\"\",\"\",入力シート!E33)","v":""},null,null,{"$f":"IF(入力シート!F33=\"\",\"\",入力シート!F33)","v":""},{"$f":"IF(入力シート!H33=\"\",\"\",入力シート!H33)","v":""},{"$f":"IF(入力シート!G33=\"\",\"\",入力シート!G33)","v":""},{"$f":"IF(選択リスト!L18=\"\",\"\",選択リスト!L18)","v":""}]
[null,null,"B",{"$f":"IF(入力シート!E34=\"\",\"\",入力シート!E34)","v":""},null,null,{"$f":"IF(入力シート!F34=\"\",\"\",入力シート!F34)","v":""},{"$f":"IF(入力シート!H34=\"\",\"\",入力シート!H34)","v":""},{"$f":"IF(入力シート!G34=\"\",\"\",入力シート!G34)","v":""},{"$f":"IF(選択リスト!L19=\"\",\"\",選択リスト!L19)","v":""}]
[null,9,"A",{"$f":"IF(入力シート!E35=\"\",\"\",入力シート!E35)","v":""},null,null,{"$f":"IF(入力シート!F35=\"\",\"\",入力シート!F35)","v":""},{"$f":"IF(入力シート!H35=\"\",\"\",入力シート!H35)","v":""},{"$f":"IF(入力シート!G35=\"\",\"\",入力シート!G35)","v":""},{"$f":"IF(選択リスト!L20=\"\",\"\",選択リスト!L20)","v":""}]
[null,null,"B",{"$f":"IF(入力シート!E36=\"\",\"\",入力シート!E36)","v":""},null,null,{"$f":"IF(入力シート!F36=\"\",\"\",入力シート!F36)","v":""},{"$f":"IF(入力シート!H36=\"\",\"\",入力シート!H36)","v":""},{"$f":"IF(入力シート!G36=\"\",\"\",入力シート!G36)","v":""},{"$f":"IF(選択リスト!L21=\"\",\"\",選択リスト!L21)","v":""}]
[null,10,"A",{"$f":"IF(入力シート!E37=\"\",\"\",入力シート!E37)","v":""},null,null,{"$f":"IF(入力シート!F37=\"\",\"\",入力シート!F37)","v":""},{"$f":"IF(入力シート!H37=\"\",\"\",入力シート!H37)","v":""},{"$f":"IF(入力シート!G37=\"\",\"\",入力シート!G37)","v":""},{"$f":"IF(選択リスト!L22=\"\",\"\",選択リスト!L22)","v":""}]
[null,null,"B",{"$f":"IF(入力シート!E38=\"\",\"\",入力シート!E38)","v":""},null,null,{"$f":"IF(入力シート!F38=\"\",\"\",入力シート!F38)","v":""},{"$f":"IF(入力シート!H38=\"\",\"\",入力シート!H38)","v":""},{"$f":"IF(入力シート!G38=\"\",\"\",入力シート!G38)","v":""},{"$f":"IF(選択リスト!L23=\"\",\"\",選択リスト!L23)","v":""}]
[]
[null,"（記入上の注意事項）"]
[null,"１．引率責任者は当該校の教員とする。"]
[null,"２．監督は校長が認める指導者とし、それが外部指導者の場合は傷害・賠償責任保険（スポーツ\n　　安全保険等）に必ず加入することを条件とする。"]
[null,"３．外部指導者とは、非常勤講師、スポーツクラブ指導者、社会体育指導者、当該校の卒業生・\n　　保護者等で校長が認めたものとする。"]
[null,"４．監督は複数校での参加は認めない。"]
[]
[null,"上記の監督は本校教職員または正式に依頼した外部指導員であり、選手は本校在学生徒であるこ\nとを認め、標記大会への参加申込をいたします。"]
[]
[null,"令和　　　年　　　　月　　　　　日"]
[null,null,null,null,null,null,"高等学校長  ",null,null,"印"]
[]
[null,null,null,null,null,null,"引率責任者（職名）",null,null,"印"]
[]
[]
[]
[null,{"$f":"B2","v":"令和"},null,null,{"$f":"E2","v":""},{"$f":"F2","v":{"$error":"#N/A"}}]
[null,{"$f":"B3","v":{"$error":"#N/A"}}]
[null,"千葉県高等学校体育連盟会長　様",null,null,null,null,null,null,null,"その②"]
[null,"種 別",null,{"$f":"D5","v":" 男子 ・ 女子"},null,null,"個　　人",null,"地区",{"$f":"J5","v":""}]
[null,"学校名",null,null,null,null,null,null,null,{"$f":"J6","v":"高等学校"}]
[null,{"$f":"B7","v":"ベンチ入り指導者"},null,null,null,null,null,"氏　　　名"]
[null,1,null,{"$f":"D8","v":"教職員・外部指導者・部活動指導員"},null,null,null,{"$f":"H8","v":""}]
[null,2,null,{"$f":"D9","v":"教職員・外部指導者・部活動指導員"},null,null,null,{"$f":"H9","v":""}]
[null,3,null,{"$f":"D10","v":"教職員・外部指導者・部活動指導員"},null,null,null,{"$f":"H10","v":""}]
[null,4,null,{"$f":"D11","v":"教職員・外部指導者・部活動指導員"},null,null,null,{"$f":"H11","v":""}]
[null,"ペア",null,"氏　　名",null,null,"ふりがな","学年","生年月日","出身中学校(○○市立△△)"]
[null,11,"A",{"$f":"IF(入力シート!E39=\"\",\"\",入力シート!E39)","v":""},null,null,{"$f":"IF(入力シート!F39=\"\",\"\",入力シート!F39)","v":""},{"$f":"IF(入力シート!H39=\"\",\"\",入力シート!H39)","v":""},{"$f":"IF(入力シート!G39=\"\",\"\",入力シート!G39)","v":""},{"$f":"IF(選択リスト!L24=\"\",\"\",選択リスト!L24)","v":""}]
[null,null,"B",{"$f":"IF(入力シート!E40=\"\",\"\",入力シート!E40)","v":""},null,null,{"$f":"IF(入力シート!F40=\"\",\"\",入力シート!F40)","v":""},{"$f":"IF(入力シート!H40=\"\",\"\",入力シート!H40)","v":""},{"$f":"IF(入力シート!G40=\"\",\"\",入力シート!G40)","v":""},{"$f":"IF(選択リスト!L25=\"\",\"\",選択リスト!L25)","v":""}]
[null,12,"A",{"$f":"IF(入力シート!E41=\"\",\"\",入力シート!E41)","v":""},null,null,{"$f":"IF(入力シート!F41=\"\",\"\",入力シート!F41)","v":""},{"$f":"IF(入力シート!H41=\"\",\"\",入力シート!H41)","v":""},{"$f":"IF(入力シート!G41=\"\",\"\",入力シート!G41)","v":""},{"$f":"IF(選択リスト!L26=\"\",\"\",選択リスト!L26)","v":""}]
[null,null,"B",{"$f":"IF(入力シート!E42=\"\",\"\",入力シート!E42)","v":""},null,null,{"$f":"IF(入力シート!F42=\"\",\"\",入力シート!F42)","v":""},{"$f":"IF(入力シート!H42=\"\",\"\",入力シート!H42)","v":""},{"$f":"IF(入力シート!G42=\"\",\"\",入力シート!G42)","v":""},{"$f":"IF(選択リスト!L27=\"\",\"\",選択リスト!L27)","v":""}]
[null,13,"A",{"$f":"IF(入力シート!E43=\"\",\"\",入力シート!E43)","v":""},null,null,{"$f":"IF(入力シート!F43=\"\",\"\",入力シート!F43)","v":""},{"$f":"IF(入力シート!H43=\"\",\"\",入力シート!H43)","v":""},{"$f":"IF(入力シート!G43=\"\",\"\",入力シート!G43)","v":""},{"$f":"IF(選択リスト!L28=\"\",\"\",選択リスト!L28)","v":""}]
[null,null,"B",{"$f":"IF(入力シート!E44=\"\",\"\",入力シート!E44)","v":""},null,null,{"$f":"IF(入力シート!F44=\"\",\"\",入力シート!F44)","v":""},{"$f":"IF(入力シート!H44=\"\",\"\",入力シート!H44)","v":""},{"$f":"IF(入力シート!G44=\"\",\"\",入力シート!G44)","v":""},{"$f":"IF(選択リスト!L29=\"\",\"\",選択リスト!L29)","v":""}]
[null,14,"A",{"$f":"IF(入力シート!E45=\"\",\"\",入力シート!E45)","v":""},null,null,{"$f":"IF(入力シート!F45=\"\",\"\",入力シート!F45)","v":""},{"$f":"IF(入力シート!H45=\"\",\"\",入力シート!H45)","v":""},{"$f":"IF(入力シート!G45=\"\",\"\",入力シート!G45)","v":""},{"$f":"IF(選択リスト!L30=\"\",\"\",選択リスト!L30)","v":""}]
[null,null,"B",{"$f":"IF(入力シート!E46=\"\",\"\",入力シート!E46)","v":""},null,null,{"$f":"IF(入力シート!F46=\"\",\"\",入力シート!F46)","v":""},{"$f":"IF(入力シート!H46=\"\",\"\",入力シート!H46)","v":""},{"$f":"IF(入力シート!G46=\"\",\"\",入力シート!G46)","v":""},{"$f":"IF(選択リスト!L31=\"\",\"\",選択リスト!L31)","v":""}]
[null,15,"A",{"$f":"IF(入力シート!E47=\"\",\"\",入力シート!E47)","v":""},null,null,{"$f":"IF(入力シート!F47=\"\",\"\",入力シート!F47)","v":""},{"$f":"IF(入力シート!H47=\"\",\"\",入力シート!H47)","v":""},{"$f":"IF(入力シート!G47=\"\",\"\",入力シート!G47)","v":""},{"$f":"IF(選択リスト!L32=\"\",\"\",選択リスト!L32)","v":""}]
[null,null,"B",{"$f":"IF(入力シート!E48=\"\",\"\",入力シート!E48)","v":""},null,null,{"$f":"IF(入力シート!F48=\"\",\"\",入力シート!F48)","v":""},{"$f":"IF(入力シート!H48=\"\",\"\",入力シート!H48)","v":""},{"$f":"IF(入力シート!G48=\"\",\"\",入力シート!G48)","v":""},{"$f":"IF(選択リスト!L33=\"\",\"\",選択リスト!L33)","v":""}]
[null,16,"A",{"$f":"IF(入力シート!E49=\"\",\"\",入力シート!E49)","v":""},null,null,{"$f":"IF(入力シート!F49=\"\",\"\",入力シート!F49)","v":""},{"$f":"IF(入力シート!H49=\"\",\"\",入力シート!H49)","v":""},{"$f":"IF(入力シート!G49=\"\",\"\",入力シート!G49)","v":""},{"$f":"IF(選択リスト!L34=\"\",\"\",選択リスト!L34)","v":""}]
[null,null,"B",{"$f":"IF(入力シート!E50=\"\",\"\",入力シート!E50)","v":""},null,null,{"$f":"IF(入力シート!F50=\"\",\"\",入力シート!F50)","v":""},{"$f":"IF(入力シート!H50=\"\",\"\",入力シート!H50)","v":""},{"$f":"IF(入力シート!G50=\"\",\"\",入力シート!G50)","v":""},{"$f":"IF(選択リスト!L35=\"\",\"\",選択リスト!L35)","v":""}]
[null,17,"A",{"$f":"IF(入力シート!E51=\"\",\"\",入力シート!E51)","v":""},null,null,{"$f":"IF(入力シート!F51=\"\",\"\",入力シート!F51)","v":""},{"$f":"IF(入力シート!H51=\"\",\"\",入力シート!H51)","v":""},{"$f":"IF(入力シート!G51=\"\",\"\",入力シート!G51)","v":""},{"$f":"IF(選択リスト!L36=\"\",\"\",選択リスト!L36)","v":""}]
[null,null,"B",{"$f":"IF(入力シート!E52=\"\",\"\",入力シート!E52)","v":""},null,null,{"$f":"IF(入力シート!F52=\"\",\"\",入力シート!F52)","v":""},{"$f":"IF(入力シート!H52=\"\",\"\",入力シート!H52)","v":""},{"$f":"IF(入力シート!G52=\"\",\"\",入力シート!G52)","v":""},{"$f":"IF(選択リスト!L37=\"\",\"\",選択リスト!L37)","v":""}]
[null,18,"A",{"$f":"IF(入力シート!E53=\"\",\"\",入力シート!E53)","v":""},null,null,{"$f":"IF(入力シート!F53=\"\",\"\",入力シート!F53)","v":""},{"$f":"IF(入力シート!H53=\"\",\"\",入力シート!H53)","v":""},{"$f":"IF(入力シート!G53=\"\",\"\",入力シート!G53)","v":""},{"$f":"IF(選択リスト!L38=\"\",\"\",選択リスト!L38)","v":""}]
[null,null,"B",{"$f":"IF(入力シート!E54=\"\",\"\",入力シート!E54)","v":""},null,null,{"$f":"IF(入力シート!F54=\"\",\"\",入力シート!F54)","v":""},{"$f":"IF(入力シート!H54=\"\",\"\",入力シート!H54)","v":""},{"$f":"IF(入力シート!G54=\"\",\"\",入力シート!G54)","v":""},{"$f":"IF(選択リスト!L39=\"\",\"\",選択リスト!L39)","v":""}]
[null,19,"A",{"$f":"IF(入力シート!E55=\"\",\"\",入力シート!E55)","v":""},null,null,{"$f":"IF(入力シート!F55=\"\",\"\",入力シート!F55)","v":""},{"$f":"IF(入力シート!H55=\"\",\"\",入力シート!H55)","v":""},{"$f":"IF(入力シート!G55=\"\",\"\",入力シート!G55)","v":""},{"$f":"IF(選択リスト!L40=\"\",\"\",選択リスト!L40)","v":""}]
[null,null,"B",{"$f":"IF(入力シート!E56=\"\",\"\",入力シート!E56)","v":""},null,null,{"$f":"IF(入力シート!F56=\"\",\"\",入力シート!F56)","v":""},{"$f":"IF(入力シート!H56=\"\",\"\",入力シート!H56)","v":""},{"$f":"IF(入力シート!G56=\"\",\"\",入力シート!G56)","v":""},{"$f":"IF(選択リスト!L41=\"\",\"\",選択リスト!L41)","v":""}]
[null,20,"A",{"$f":"IF(入力シート!E57=\"\",\"\",入力シート!E57)","v":""},null,null,{"$f":"IF(入力シート!F57=\"\",\"\",入力シート!F57)","v":""},{"$f":"IF(入力シート!H57=\"\",\"\",入力シート!H57)","v":""},{"$f":"IF(入力シート!G57=\"\",\"\",入力シート!G57)","v":""},{"$f":"IF(選択リスト!L42=\"\",\"\",選択リスト!L42)","v":""}]
[null,null,"B",{"$f":"IF(入力シート!E58=\"\",\"\",入力シート!E58)","v":""},null,null,{"$f":"IF(入力シート!F58=\"\",\"\",入力シート!F58)","v":""},{"$f":"IF(入力シート!H58=\"\",\"\",入力シート!H58)","v":""},{"$f":"IF(入力シート!G58=\"\",\"\",入力シート!G58)","v":""},{"$f":"IF(選択リスト!L43=\"\",\"\",選択リスト!L43)","v":""}]
[]
[null,{"$f":"B34","v":"（記入上の注意事項）"}]
[null,{"$f":"B35","v":"１．引率責任者は当該校の教員とする。"}]
[null,{"$f":"B36","v":"２．監督は校長が認める指導者とし、それが外部指導者の場合は傷害・賠償責任保険（スポーツ\n　　安全保険等）に必ず加入することを条件とする。"}]
[null,"３．外部指導者とは、非常勤講師、スポーツクラブ指導者、社会体育指導者、当該校の卒業生・\n　　保護者等で校長が認めたものとする。"]
[null,"４．監督は複数校での参加は認めない。"]
[]
[null,{"$f":"B40","v":"上記の監督は本校教職員または正式に依頼した外部指導員であり、選手は本校在学生徒であるこ\nとを認め、標記大会への参加申込をいたします。"}]
[]
[null,"令和　　　年　　　　月　　　　　日"]
[null,null,null,null,null,null,"高等学校長  ",null,null,"印"]
[]
[null,null,null,null,null,null,"引率責任者（職名）",null,null,"印"]
[]
[]
[]
[null,{"$f":"B49","v":"令和"},null,null,{"$f":"E49","v":""},{"$f":"F49","v":{"$error":"#N/A"}}]
[null,{"$f":"B50","v":{"$error":"#N/A"}}]
[null,"千葉県高等学校体育連盟会長　様",null,null,null,null,null,null,null,"その③"]
[null,"種 別",null,{"$f":"D52","v":" 男子 ・ 女子"},null,null,"個　　人",null,"地区",{"$f":"J52","v":""}]
[null,"学校名",null,null,null,null,null,null,null,{"$f":"J53","v":"高等学校"}]
[null,{"$f":"B7","v":"ベンチ入り指導者"},null,null,null,null,null,"氏　　　名"]
[null,1,null,{"$f":"D55","v":"教職員・外部指導者・部活動指導員"},null,null,null,{"$f":"H55","v":""}]
[null,2,null,{"$f":"D56","v":"教職員・外部指導者・部活動指導員"},null,null,null,{"$f":"H56","v":""}]
[null,3,null,"教職員・外部指導者・部活動指導員",null,null,null,""]
[null,4,null,"教職員・外部指導者・部活動指導員",null,null,null,""]
[null,"ペア",null,"氏　　名",null,null,"ふりがな","学年","生年月日","出身中学校(○○市立△△)"]
[null,21,"A",{"$f":"IF(入力シート!E59=\"\",\"\",入力シート!E59)","v":""},null,null,{"$f":"IF(入力シート!F59=\"\",\"\",入力シート!F59)","v":""},{"$f":"IF(入力シート!H59=\"\",\"\",入力シート!H59)","v":""},{"$f":"IF(入力シート!G59=\"\",\"\",入力シート!G59)","v":""},{"$f":"IF(選択リスト!L44=\"\",\"\",選択リスト!L44)","v":""}]
[null,null,"B",{"$f":"IF(入力シート!E60=\"\",\"\",入力シート!E60)","v":""},null,null,{"$f":"IF(入力シート!F60=\"\",\"\",入力シート!F60)","v":""},{"$f":"IF(入力シート!H60=\"\",\"\",入力シート!H60)","v":""},{"$f":"IF(入力シート!G60=\"\",\"\",入力シート!G60)","v":""},{"$f":"IF(選択リスト!L45=\"\",\"\",選択リスト!L45)","v":""}]
[null,22,"A",{"$f":"IF(入力シート!E61=\"\",\"\",入力シート!E61)","v":""},null,null,{"$f":"IF(入力シート!F61=\"\",\"\",入力シート!F61)","v":""},{"$f":"IF(入力シート!H61=\"\",\"\",入力シート!H61)","v":""},{"$f":"IF(入力シート!G61=\"\",\"\",入力シート!G61)","v":""},{"$f":"IF(選択リスト!L46=\"\",\"\",選択リスト!L46)","v":""}]
[null,null,"B",{"$f":"IF(入力シート!E62=\"\",\"\",入力シート!E62)","v":""},null,null,{"$f":"IF(入力シート!F62=\"\",\"\",入力シート!F62)","v":""},{"$f":"IF(入力シート!H62=\"\",\"\",入力シート!H62)","v":""},{"$f":"IF(入力シート!G62=\"\",\"\",入力シート!G62)","v":""},{"$f":"IF(選択リスト!L47=\"\",\"\",選択リスト!L47)","v":""}]
[null,23,"A",{"$f":"IF(入力シート!E63=\"\",\"\",入力シート!E63)","v":""},null,null,{"$f":"IF(入力シート!F63=\"\",\"\",入力シート!F63)","v":""},{"$f":"IF(入力シート!H63=\"\",\"\",入力シート!H63)","v":""},{"$f":"IF(入力シート!G63=\"\",\"\",入力シート!G63)","v":""},{"$f":"IF(選択リスト!L48=\"\",\"\",選択リスト!L48)","v":""}]
[null,null,"B",{"$f":"IF(入力シート!E64=\"\",\"\",入力シート!E64)","v":""},null,null,{"$f":"IF(入力シート!F64=\"\",\"\",入力シート!F64)","v":""},{"$f":"IF(入力シート!H64=\"\",\"\",入力シート!H64)","v":""},{"$f":"IF(入力シート!G64=\"\",\"\",入力シート!G64)","v":""},{"$f":"IF(選択リスト!L49=\"\",\"\",選択リスト!L49)","v":""}]
[null,24,"A",{"$f":"IF(入力シート!E65=\"\",\"\",入力シート!E65)","v":""},null,null,{"$f":"IF(入力シート!F65=\"\",\"\",入力シート!F65)","v":""},{"$f":"IF(入力シート!H65=\"\",\"\",入力シート!H65)","v":""},{"$f":"IF(入力シート!G65=\"\",\"\",入力シート!G65)","v":""},{"$f":"IF(選択リスト!L50=\"\",\"\",選択リスト!L50)","v":""}]
[null,null,"B",{"$f":"IF(入力シート!E66=\"\",\"\",入力シート!E66)","v":""},null,null,{"$f":"IF(入力シート!F66=\"\",\"\",入力シート!F66)","v":""},{"$f":"IF(入力シート!H66=\"\",\"\",入力シート!H66)","v":""},{"$f":"IF(入力シート!G66=\"\",\"\",入力シート!G66)","v":""},{"$f":"IF(選択リスト!L51=\"\",\"\",選択リスト!L51)","v":""}]
[null,25,"A",{"$f":"IF(入力シート!E67=\"\",\"\",入力シート!E67)","v":""},null,null,{"$f":"IF(入力シート!F67=\"\",\"\",入力シート!F67)","v":""},{"$f":"IF(入力シート!H67=\"\",\"\",入力シート!H67)","v":""},{"$f":"IF(入力シート!G67=\"\",\"\",入力シート!G67)","v":""},{"$f":"IF(選択リスト!L52=\"\",\"\",選択リスト!L52)","v":""}]
[null,null,"B",{"$f":"IF(入力シート!E68=\"\",\"\",入力シート!E68)","v":""},null,null,{"$f":"IF(入力シート!F68=\"\",\"\",入力シート!F68)","v":""},{"$f":"IF(入力シート!H68=\"\",\"\",入力シート!H68)","v":""},{"$f":"IF(入力シート!G68=\"\",\"\",入力シート!G68)","v":""},{"$f":"IF(選択リスト!L53=\"\",\"\",選択リスト!L53)","v":""}]
[null,26,"A",{"$f":"IF(入力シート!E69=\"\",\"\",入力シート!E69)","v":""},null,null,{"$f":"IF(入力シート!F69=\"\",\"\",入力シート!F69)","v":""},{"$f":"IF(入力シート!H69=\"\",\"\",入力シート!H69)","v":""},{"$f":"IF(入力シート!G69=\"\",\"\",入力シート!G69)","v":""},{"$f":"IF(選択リスト!L54=\"\",\"\",選択リスト!L54)","v":""}]
[null,null,"B",{"$f":"IF(入力シート!E70=\"\",\"\",入力シート!E70)","v":""},null,null,{"$f":"IF(入力シート!F70=\"\",\"\",入力シート!F70)","v":""},{"$f":"IF(入力シート!H70=\"\",\"\",入力シート!H70)","v":""},{"$f":"IF(入力シート!G70=\"\",\"\",入力シート!G70)","v":""},{"$f":"IF(選択リスト!L55=\"\",\"\",選択リスト!L55)","v":""}]
[null,27,"A",{"$f":"IF(入力シート!E71=\"\",\"\",入力シート!E71)","v":""},null,null,{"$f":"IF(入力シート!F71=\"\",\"\",入力シート!F71)","v":""},{"$f":"IF(入力シート!H71=\"\",\"\",入力シート!H71)","v":""},{"$f":"IF(入力シート!G71=\"\",\"\",入力シート!G71)","v":""},{"$f":"IF(選択リスト!L56=\"\",\"\",選択リスト!L56)","v":""}]
[null,null,"B",{"$f":"IF(入力シート!E72=\"\",\"\",入力シート!E72)","v":""},null,null,{"$f":"IF(入力シート!F72=\"\",\"\",入力シート!F72)","v":""},{"$f":"IF(入力シート!H72=\"\",\"\",入力シート!H72)","v":""},{"$f":"IF(入力シート!G72=\"\",\"\",入力シート!G72)","v":""},{"$f":"IF(選択リスト!L57=\"\",\"\",選択リスト!L57)","v":""}]
[null,28,"A",{"$f":"IF(入力シート!E73=\"\",\"\",入力シート!E73)","v":""},null,null,{"$f":"IF(入力シート!F73=\"\",\"\",入力シート!F73)","v":""},{"$f":"IF(入力シート!H73=\"\",\"\",入力シート!H73)","v":""},{"$f":"IF(入力シート!G73=\"\",\"\",入力シート!G73)","v":""},{"$f":"IF(選択リスト!L58=\"\",\"\",選択リスト!L58)","v":""}]
[null,null,"B",{"$f":"IF(入力シート!E74=\"\",\"\",入力シート!E74)","v":""},null,null,{"$f":"IF(入力シート!F74=\"\",\"\",入力シート!F74)","v":""},{"$f":"IF(入力シート!H74=\"\",\"\",入力シート!H74)","v":""},{"$f":"IF(入力シート!G74=\"\",\"\",入力シート!G74)","v":""},{"$f":"IF(選択リスト!L59=\"\",\"\",選択リスト!L59)","v":""}]
[null,29,"A",{"$f":"IF(入力シート!E75=\"\",\"\",入力シート!E75)","v":""},null,null,{"$f":"IF(入力シート!F75=\"\",\"\",入力シート!F75)","v":""},{"$f":"IF(入力シート!H75=\"\",\"\",入力シート!H75)","v":""},{"$f":"IF(入力シート!G75=\"\",\"\",入力シート!G75)","v":""},{"$f":"IF(選択リスト!L60=\"\",\"\",選択リスト!L60)","v":""}]
[null,null,"B",{"$f":"IF(入力シート!E76=\"\",\"\",入力シート!E76)","v":""},null,null,{"$f":"IF(入力シート!F76=\"\",\"\",入力シート!F76)","v":""},{"$f":"IF(入力シート!H76=\"\",\"\",入力シート!H76)","v":""},{"$f":"IF(入力シート!G76=\"\",\"\",入力シート!G76)","v":""},{"$f":"IF(選択リスト!L61=\"\",\"\",選択リスト!L61)","v":""}]
[null,30,"A",{"$f":"IF(入力シート!E77=\"\",\"\",入力シート!E77)","v":""},null,null,{"$f":"IF(入力シート!F77=\"\",\"\",入力シート!F77)","v":""},{"$f":"IF(入力シート!H77=\"\",\"\",入力シート!H77)","v":""},{"$f":"IF(入力シート!G77=\"\",\"\",入力シート!G77)","v":""},{"$f":"IF(選択リスト!L62=\"\",\"\",選択リスト!L62)","v":""}]
[null,null,"B",{"$f":"IF(入力シート!E78=\"\",\"\",入力シート!E78)","v":""},null,null,{"$f":"IF(入力シート!F78=\"\",\"\",入力シート!F78)","v":""},{"$f":"IF(入力シート!H78=\"\",\"\",入力シート!H78)","v":""},{"$f":"IF(入力シート!G78=\"\",\"\",入力シート!G78)","v":""},{"$f":"IF(選択リスト!L63=\"\",\"\",選択リスト!L63)","v":""}]
[]
[null,{"$f":"B81","v":"（記入上の注意事項）"}]
[null,{"$f":"B82","v":"１．引率責任者は当該校の教員とする。"}]
[null,{"$f":"B83","v":"２．監督は校長が認める指導者とし、それが外部指導者の場合は傷害・賠償責任保険（スポーツ\n　　安全保険等）に必ず加入することを条件とする。"}]
[null,"３．外部指導者とは、非常勤講師、スポーツクラブ指導者、社会体育指導者、当該校の卒業生・\n　　保護者等で校長が認めたものとする。"]
[null,"４．監督は複数校での参加は認めない。"]
[]
[null,{"$f":"B87","v":"上記の監督は本校教職員または正式に依頼した外部指導員であり、選手は本校在学生徒であるこ\nとを認め、標記大会への参加申込をいたします。"}]
[]
[null,"令和　　　年　　　　月　　　　　日"]
[null,null,null,null,null,null,"高等学校長  ",null,null,"印"]
[]
[null,null,null,null,null,null,"引率責任者（職名）",null,null,"印"]